BEGIN:VCALENDAR
VERSION:2.0
PRODID:-//Dogs ACT - ECPv5.2.0//NONSGML v1.0//EN
CALSCALE:GREGORIAN
METHOD:PUBLISH
X-WR-CALNAME:Dogs ACT
X-ORIGINAL-URL:https://dogsact.org.au
X-WR-CALDESC:Events for Dogs ACT
BEGIN:VTIMEZONE
TZID:Australia/Sydney
BEGIN:STANDARD
TZOFFSETFROM:+1100
TZOFFSETTO:+1000
TZNAME:AEST
DTSTART:20240406T160000
END:STANDARD
BEGIN:DAYLIGHT
TZOFFSETFROM:+1000
TZOFFSETTO:+1100
TZNAME:AEDT
DTSTART:20241005T160000
END:DAYLIGHT
END:VTIMEZONE
BEGIN:VEVENT
DTSTART;VALUE=DATE:20240830
DTEND;VALUE=DATE:20240902
DTSTAMP:20260420T204110
CREATED:20230222T032708Z
LAST-MODIFIED:20231206T043320Z
UID:10419-1724976000-1725235199@dogsact.org.au
SUMMARY:2024 Border Collie National - Restricted to Breed
DESCRIPTION:Details will appears as they come available. \nWebpage \nFacebook
URL:https://dogsact.org.au/event/2024-border-collie-national-restricted-to-breed/
LOCATION:Dogs Qld Durack
CATEGORIES:Agility,Conformation,Jumping,NATIONAL,Obedience Trials,Rally Trial,Scent Work
END:VEVENT
END:VCALENDAR