BEGIN:VCALENDAR
VERSION:2.0
PRODID:-//Dogs ACT - ECPv5.2.0//NONSGML v1.0//EN
CALSCALE:GREGORIAN
METHOD:PUBLISH
X-WR-CALNAME:Dogs ACT
X-ORIGINAL-URL:https://dogsact.org.au
X-WR-CALDESC:Events for Dogs ACT
BEGIN:VTIMEZONE
TZID:Australia/Sydney
BEGIN:STANDARD
TZOFFSETFROM:+1100
TZOFFSETTO:+1000
TZNAME:AEST
DTSTART:20270403T160000
END:STANDARD
BEGIN:DAYLIGHT
TZOFFSETFROM:+1000
TZOFFSETTO:+1100
TZNAME:AEDT
DTSTART:20271002T160000
END:DAYLIGHT
END:VTIMEZONE
BEGIN:VEVENT
DTSTART;TZID=Australia/Sydney:20270810T080000
DTEND;TZID=Australia/Sydney:20270811T170000
DTSTAMP:20260426T070111
CREATED:20231205T030835Z
LAST-MODIFIED:20231206T043210Z
UID:11436-1817884800-1818003600@dogsact.org.au
SUMMARY:2027 National Chihuahua Show - Chihuahua Club of Queensland
DESCRIPTION:2027 National Chihuahua Show hosted by the Chihuahua Club of Queensland via Dogs Queensland to be held on 10 & 11 August 2027 at Dogs Queensland Showgrounds\, 247 King Avenue\, Durack\, Queensland
URL:https://dogsact.org.au/event/2027-national-chihuahua-show-chihuahua-club-of-queensland/
LOCATION:Durack\, QLD
CATEGORIES:Conformation,NATIONAL
END:VEVENT
END:VCALENDAR