BEGIN:VCALENDAR
VERSION:2.0
PRODID:-//Dogs ACT - ECPv5.2.0//NONSGML v1.0//EN
CALSCALE:GREGORIAN
METHOD:PUBLISH
X-WR-CALNAME:Dogs ACT
X-ORIGINAL-URL:https://dogsact.org.au
X-WR-CALDESC:Events for Dogs ACT
BEGIN:VTIMEZONE
TZID:Australia/Sydney
BEGIN:STANDARD
TZOFFSETFROM:+1100
TZOFFSETTO:+1000
TZNAME:AEST
DTSTART:20280401T160000
END:STANDARD
BEGIN:DAYLIGHT
TZOFFSETFROM:+1000
TZOFFSETTO:+1100
TZNAME:AEDT
DTSTART:20280930T160000
END:DAYLIGHT
END:VTIMEZONE
BEGIN:VEVENT
DTSTART;TZID=Australia/Sydney:20280408T080000
DTEND;TZID=Australia/Sydney:20280409T170000
DTSTAMP:20260425T083000
CREATED:20251216T223254Z
LAST-MODIFIED:20251216T223254Z
UID:14186-1838793600-1838912400@dogsact.org.au
SUMMARY:Breed Show - ACT & District Staffordshire Bull Terrier Club
DESCRIPTION:Advertisement TBA
URL:https://dogsact.org.au/event/breed-show-act-district-staffordshire-bull-terrier-club-4/
LOCATION:Dogs ACT Canine Complex\, Exhibition Park\, Cnr Stirling Ave & Federal Highway\, Mitchell\, ACT.\, Canberra\, ACT\, Australia
CATEGORIES:Conformation
GEO:-35.2303406;149.1516599
X-APPLE-STRUCTURED-LOCATION;VALUE=URI;X-ADDRESS=Dogs ACT Canine Complex Exhibition Park Cnr Stirling Ave & Federal Highway Mitchell ACT. Canberra ACT Australia;X-APPLE-RADIUS=500;X-TITLE=Cnr Stirling Ave & Federal Highway\, Mitchell\, ACT.:geo:149.1516599,-35.2303406
END:VEVENT
END:VCALENDAR