BEGIN:VCALENDAR
VERSION:2.0
PRODID:-//Dogs ACT - ECPv5.2.0//NONSGML v1.0//EN
CALSCALE:GREGORIAN
METHOD:PUBLISH
X-WR-CALNAME:Dogs ACT
X-ORIGINAL-URL:https://dogsact.org.au
X-WR-CALDESC:Events for Dogs ACT
BEGIN:VTIMEZONE
TZID:Australia/Sydney
BEGIN:STANDARD
TZOFFSETFROM:+1100
TZOFFSETTO:+1000
TZNAME:AEST
DTSTART:20240406T160000
END:STANDARD
BEGIN:DAYLIGHT
TZOFFSETFROM:+1000
TZOFFSETTO:+1100
TZNAME:AEDT
DTSTART:20241005T160000
END:DAYLIGHT
END:VTIMEZONE
BEGIN:VEVENT
DTSTART;TZID=Australia/Sydney:20241206T180000
DTEND;TZID=Australia/Sydney:20241206T220000
DTSTAMP:20260426T142308
CREATED:20241118T230136Z
LAST-MODIFIED:20241118T233628Z
UID:12796-1733508000-1733522400@dogsact.org.au
SUMMARY:Agility Rule Review - Dogs ACT Rule Review
DESCRIPTION:For all Dogs ACT full members who participate in Agility\, you are invited to attend.\nThis will be held in person in the Dogs ACT Meeting Room.
URL:https://dogsact.org.au/event/dogs-act-agility-rule-review/
LOCATION:Dogs ACT meeting room
CATEGORIES:Agility
END:VEVENT
END:VCALENDAR