BEGIN:VCALENDAR
VERSION:2.0
PRODID:-//Dogs ACT - ECPv5.2.0//NONSGML v1.0//EN
CALSCALE:GREGORIAN
METHOD:PUBLISH
X-WR-CALNAME:Dogs ACT
X-ORIGINAL-URL:https://dogsact.org.au
X-WR-CALDESC:Events for Dogs ACT
BEGIN:VTIMEZONE
TZID:Australia/Sydney
BEGIN:STANDARD
TZOFFSETFROM:+1100
TZOFFSETTO:+1000
TZNAME:AEST
DTSTART:20260404T160000
END:STANDARD
BEGIN:DAYLIGHT
TZOFFSETFROM:+1000
TZOFFSETTO:+1100
TZNAME:AEDT
DTSTART:20261003T160000
END:DAYLIGHT
END:VTIMEZONE
BEGIN:VEVENT
DTSTART;TZID=Australia/Sydney:20260309T080000
DTEND;TZID=Australia/Sydney:20260309T170000
DTSTAMP:20260426T040954
CREATED:20250819T021110Z
LAST-MODIFIED:20251211T054444Z
UID:13665-1773043200-1773075600@dogsact.org.au
SUMMARY:Dogs ACT - SprintDog Trial
DESCRIPTION:Canberra Day Public Holiday \nLocation ACT Companion Dog Club \nAdvertisement
URL:https://dogsact.org.au/event/dogs-act-sprintdog-trial/
CATEGORIES:Sprint Dog
ORGANIZER;CN="Dogs%20ACT":MAILTO:admin@dogsact.org.au
END:VEVENT
END:VCALENDAR