BEGIN:VCALENDAR
VERSION:2.0
PRODID:-//Dogs ACT - ECPv5.2.0//NONSGML v1.0//EN
CALSCALE:GREGORIAN
METHOD:PUBLISH
X-WR-CALNAME:Dogs ACT
X-ORIGINAL-URL:https://dogsact.org.au
X-WR-CALDESC:Events for Dogs ACT
BEGIN:VTIMEZONE
TZID:Australia/Sydney
BEGIN:STANDARD
TZOFFSETFROM:+1100
TZOFFSETTO:+1000
TZNAME:AEST
DTSTART:20190406T160000
END:STANDARD
BEGIN:DAYLIGHT
TZOFFSETFROM:+1000
TZOFFSETTO:+1100
TZNAME:AEDT
DTSTART:20191005T160000
END:DAYLIGHT
END:VTIMEZONE
BEGIN:VEVENT
DTSTART;TZID=Australia/Sydney:20190702T193000
DTEND;TZID=Australia/Sydney:20190702T213000
DTSTAMP:20260424T224746
CREATED:20190618T070109Z
LAST-MODIFIED:20190618T070116Z
UID:5192-1562095800-1562103000@dogsact.org.au
SUMMARY:JTS Working Dogs Module 1
DESCRIPTION:Bouvier des Flandres \nBriard
URL:https://dogsact.org.au/event/jts-working-dogs-module-1-4/
CATEGORIES:JTS Judges Training Lecture
END:VEVENT
END:VCALENDAR