BEGIN:VCALENDAR
VERSION:2.0
PRODID:-//Dogs ACT - ECPv5.2.0//NONSGML v1.0//EN
CALSCALE:GREGORIAN
METHOD:PUBLISH
X-WR-CALNAME:Dogs ACT
X-ORIGINAL-URL:https://dogsact.org.au
X-WR-CALDESC:Events for Dogs ACT
BEGIN:VTIMEZONE
TZID:Australia/Sydney
BEGIN:STANDARD
TZOFFSETFROM:+1100
TZOFFSETTO:+1000
TZNAME:AEST
DTSTART:20220402T160000
END:STANDARD
BEGIN:DAYLIGHT
TZOFFSETFROM:+1000
TZOFFSETTO:+1100
TZNAME:AEDT
DTSTART:20221001T160000
END:DAYLIGHT
END:VTIMEZONE
BEGIN:VEVENT
DTSTART;VALUE=DATE:20220406
DTEND;VALUE=DATE:20220409
DTSTAMP:20260425T005950
CREATED:20210405T210218Z
LAST-MODIFIED:20210520T105905Z
UID:8193-1649203200-1649462399@dogsact.org.au
SUMMARY:NATIONAL - German Shorthaired Pointer Show/Restricted Trial
DESCRIPTION:The GSP Club of NSW will be holding their National show & restricted trial on the Dogs NSW grounds at Orchard Hills NSW on these dates.
URL:https://dogsact.org.au/event/national-gsp-german-shorthaired-pointer-show-restricted-trial/
CATEGORIES:Championship Shows,NATIONAL
END:VEVENT
END:VCALENDAR