BEGIN:VCALENDAR
VERSION:2.0
PRODID:-//Dogs ACT - ECPv5.2.0//NONSGML v1.0//EN
CALSCALE:GREGORIAN
METHOD:PUBLISH
X-WR-CALNAME:Dogs ACT
X-ORIGINAL-URL:https://dogsact.org.au
X-WR-CALDESC:Events for Dogs ACT
BEGIN:VTIMEZONE
TZID:Australia/Sydney
BEGIN:STANDARD
TZOFFSETFROM:+1100
TZOFFSETTO:+1000
TZNAME:AEST
DTSTART:20220402T160000
END:STANDARD
BEGIN:DAYLIGHT
TZOFFSETFROM:+1000
TZOFFSETTO:+1100
TZNAME:AEDT
DTSTART:20221001T160000
END:DAYLIGHT
END:VTIMEZONE
BEGIN:VEVENT
DTSTART;VALUE=DATE:20221029
DTEND;VALUE=DATE:20221031
DTSTAMP:20260422T142337
CREATED:20200813T045639Z
LAST-MODIFIED:20220302T050305Z
UID:6986-1667001600-1667174399@dogsact.org.au
SUMMARY:NATIONAL - Samoyed Ch Show - NSW - rescheduled!
DESCRIPTION:  \nThe NSW Samoyed Club has approval to hold their 2022 NATIONAL Ch Show to be held at the Hawkesbury Race Course\, Racecourse Road\, Clarendon\, NSW. \nAdvertisement
URL:https://dogsact.org.au/event/national-samoyed-national-ch-show-2022/
LOCATION:New South Wales\, Australia
CATEGORIES:Championship Shows,NATIONAL
END:VEVENT
END:VCALENDAR