BEGIN:VCALENDAR
VERSION:2.0
PRODID:-//Dogs ACT - ECPv5.2.0//NONSGML v1.0//EN
CALSCALE:GREGORIAN
METHOD:PUBLISH
X-WR-CALNAME:Dogs ACT
X-ORIGINAL-URL:https://dogsact.org.au
X-WR-CALDESC:Events for Dogs ACT
BEGIN:VTIMEZONE
TZID:Australia/Sydney
BEGIN:STANDARD
TZOFFSETFROM:+1100
TZOFFSETTO:+1000
TZNAME:AEST
DTSTART:20250405T160000
END:STANDARD
BEGIN:DAYLIGHT
TZOFFSETFROM:+1000
TZOFFSETTO:+1100
TZNAME:AEDT
DTSTART:20251004T160000
END:DAYLIGHT
END:VTIMEZONE
BEGIN:VEVENT
DTSTART;TZID=Australia/Sydney:20250706T080000
DTEND;TZID=Australia/Sydney:20250706T170000
DTSTAMP:20260420T023603
CREATED:20240619T054547Z
LAST-MODIFIED:20250529T032500Z
UID:12283-1751788800-1751821200@dogsact.org.au
SUMMARY:Scent Work Trial - BDOC
DESCRIPTION:Advertisement
URL:https://dogsact.org.au/event/scent-work-trial-bdoc-7/
CATEGORIES:Scent Work
END:VEVENT
END:VCALENDAR