BEGIN:VCALENDAR
VERSION:2.0
PRODID:-//Dogs ACT - ECPv5.2.0//NONSGML v1.0//EN
CALSCALE:GREGORIAN
METHOD:PUBLISH
X-WR-CALNAME:Dogs ACT
X-ORIGINAL-URL:https://dogsact.org.au
X-WR-CALDESC:Events for Dogs ACT
BEGIN:VTIMEZONE
TZID:Australia/Sydney
BEGIN:STANDARD
TZOFFSETFROM:+1100
TZOFFSETTO:+1000
TZNAME:AEST
DTSTART:20250405T160000
END:STANDARD
BEGIN:DAYLIGHT
TZOFFSETFROM:+1000
TZOFFSETTO:+1100
TZNAME:AEDT
DTSTART:20251004T160000
END:DAYLIGHT
END:VTIMEZONE
BEGIN:VEVENT
DTSTART;VALUE=DATE:20251212
DTEND;VALUE=DATE:20251216
DTSTAMP:20260426T060354
CREATED:20231115T012645Z
LAST-MODIFIED:20250909T055220Z
UID:11363-1765497600-1765843199@dogsact.org.au
SUMMARY:Spilt Milk - EPIC Event
DESCRIPTION:There will be Limited Dogs ACT grounds access during this event – all access for the Dogs Shows will be via Gate 6A ONLY.\nNO CAMPING
URL:https://dogsact.org.au/event/spilt-milk-epic-event-2/2025-12-12/
END:VEVENT
END:VCALENDAR