BEGIN:VCALENDAR
VERSION:2.0
PRODID:-//Dogs ACT - ECPv5.2.0//NONSGML v1.0//EN
CALSCALE:GREGORIAN
METHOD:PUBLISH
X-WR-CALNAME:Dogs ACT
X-ORIGINAL-URL:https://dogsact.org.au
X-WR-CALDESC:Events for Dogs ACT
BEGIN:VTIMEZONE
TZID:Australia/Sydney
BEGIN:STANDARD
TZOFFSETFROM:+1100
TZOFFSETTO:+1000
TZNAME:AEST
DTSTART:20170401T160000
END:STANDARD
BEGIN:DAYLIGHT
TZOFFSETFROM:+1000
TZOFFSETTO:+1100
TZNAME:AEDT
DTSTART:20170930T160000
END:DAYLIGHT
END:VTIMEZONE
BEGIN:VEVENT
DTSTART;VALUE=DATE:20171201
DTEND;VALUE=DATE:20171204
DTSTAMP:20260425T025201
CREATED:20170716T232051Z
LAST-MODIFIED:20170716T232051Z
UID:2776-1512086400-1512345599@dogsact.org.au
SUMMARY:Victorian Summer Spectacular - KCC Park
DESCRIPTION:To see the schedule click here
URL:https://dogsact.org.au/event/victorian-summer-spectacular-kcc-park/
LOCATION:ACT
END:VEVENT
BEGIN:VEVENT
DTSTART;TZID=Australia/Sydney:20171205T183000
DTEND;TZID=Australia/Sydney:20171205T210000
DTSTAMP:20260425T025201
CREATED:20161109T002903Z
LAST-MODIFIED:20170515T015257Z
UID:2081-1512498600-1512507600@dogsact.org.au
SUMMARY:ACT Companion Dog Club - Evening Ribbon Gamblers Trial
DESCRIPTION:Schedule here
URL:https://dogsact.org.au/event/evening-agility-and-jumping-trials-9/
LOCATION:ACT Companion Dog Club grounds\, 240 Narrabundah Lane\, Symonston\, Canberra\, ACT\, 2609\, Australia
CATEGORIES:Agility
GEO:-35.3476439;149.1596117
X-APPLE-STRUCTURED-LOCATION;VALUE=URI;X-ADDRESS=ACT Companion Dog Club grounds 240 Narrabundah Lane Symonston Canberra ACT 2609 Australia;X-APPLE-RADIUS=500;X-TITLE=240 Narrabundah Lane\, Symonston:geo:149.1596117,-35.3476439
END:VEVENT
BEGIN:VEVENT
DTSTART;TZID=Australia/Sydney:20171207T080000
DTEND;TZID=Australia/Sydney:20171207T170000
DTSTAMP:20260425T025201
CREATED:20160510T040151Z
LAST-MODIFIED:20171207T035111Z
UID:1600-1512633600-1512666000@dogsact.org.au
SUMMARY:ACT LADIES KENNEL CLUB & ACT JUNIOR KENNEL CLUB ‘CHRISTMAS EXTRAVAGANZA
DESCRIPTION:ENTRIES CLOSE FOR ALL SHOWS STRICTLY on 18 November –  Postal ; 21 November – Online\nACT LADIES KENNEL CLUB & ACT JUNIOR KENNEL CLUB  ‘CHRISTMAS EXTRAVAGANZA’ 6 ALL BREEDS CHAMPIONSHIP SHOWS – AM & PM FRIDAY 9\, SATURDAY 10 & SUNDAY 11 DECEMBER 2016  Exhibition Park\, Federal Highway\, Canberra   Classes to be judged: 1\, 2\, 3\, 4\, 5\,10\, 11 & 18  (dogs & bitches).\nEntries:  Mrs Mara Herba – PO Box 51 Captains Flat  NSW  2623; siberians@ozemail.com.au ; Ph:  6236 6404 Exhibitors to please ensure each entry clearly indicates correct Club and Show/s  Cheques to be made payable to either: ‘ACT Ladies Kennel Club’ for AM shows; or   ‘ACT Junior Kennel Club’ for PM shows\nOrder of judging: Morning Shows start at 8.30 am each day with groups in alphabetical order.  Afternoon Shows not before 1pm each day with groups in alphabetical order.\nNOTE – On Saturday between AM and PM shows there will be Junior Handlers (including Tiny Tots) followed and a visit from Santa. Entry Fees:    $12.00 per entry ALL classes.     Catalogues:   ACT.Ladies KC – $4 (pre-paid with entry) per show        ACT.Junior KC – $4 (pre-paid with entry) per show Prizes:   Trophy and sash for BIG\, RUBIG\, BIS\, RUBIS for AM shows  Classes in Group and in Classes in Show for all shows.   Cash and sash for PM shows Prizes for best decorated canopies over the weekend on Saturday! Excellent prizes for Junior Handlers classes & prizes for all Tiny Tots! Visit from Santa on Saturday! Get dressed up in your Christmas gear and join us for the last ACT shows of the year!\nRSVPs for children attending the show are ESSENTIAL to ensure that the elves have enough goodie bags for Santa to hand out! Please advise Melanie Buckley via Facebook or phone on 0417 225 292. Show Committees do not enter or handle exhibits at these events The Clubs reserve the right to reallocate or change judges Dogs ACT hot weather policy applies
URL:https://dogsact.org.au/event/act-ladies-kennel-club-act-junior-kennel-club-christmas-extravaganza/
LOCATION:ACT
CATEGORIES:Championship Shows
END:VEVENT
BEGIN:VEVENT
DTSTART;TZID=Australia/Sydney:20171208T083000
DTEND;TZID=Australia/Sydney:20171210T180000
DTSTAMP:20260425T025201
CREATED:20161228T072821Z
LAST-MODIFIED:20170906T034531Z
UID:2359-1512721800-1512928800@dogsact.org.au
SUMMARY:ACT Ladies & Canberra All Breeds Kennel Club - 6 championship shows
DESCRIPTION:To view schedule click here \n6 shows over 3 days!!
URL:https://dogsact.org.au/event/act-ladies-act-junior-kcs-championship-shows/
LOCATION:Dogs ACT Canine Complex\, Exhibition Park\, Cnr Stirling Ave & Federal Highway\, Mitchell\, ACT.\, Canberra\, ACT\, Australia
CATEGORIES:Championship Shows
GEO:-35.2303406;149.1516599
X-APPLE-STRUCTURED-LOCATION;VALUE=URI;X-ADDRESS=Dogs ACT Canine Complex Exhibition Park Cnr Stirling Ave & Federal Highway Mitchell ACT. Canberra ACT Australia;X-APPLE-RADIUS=500;X-TITLE=Cnr Stirling Ave & Federal Highway\, Mitchell\, ACT.:geo:149.1516599,-35.2303406
END:VEVENT
BEGIN:VEVENT
DTSTART;TZID=Australia/Sydney:20171212T180000
DTEND;TZID=Australia/Sydney:20171212T220000
DTSTAMP:20260425T025201
CREATED:20171204T105134Z
LAST-MODIFIED:20171207T040713Z
UID:3173-1513101600-1513116000@dogsact.org.au
SUMMARY:Agility Trial - Ribbon Gamblers\, ACT Companion Dog Club
DESCRIPTION:The postponed trial from Tuesday 5 December 2018
URL:https://dogsact.org.au/event/agility-trial-ribbon-gamblers-act-companion-dog-club/
LOCATION:ACT Companion Dog Club grounds\, 240 Narrabundah Lane\, Symonston\, Canberra\, ACT\, 2609\, Australia
CATEGORIES:Agility
GEO:-35.3476439;149.1596117
X-APPLE-STRUCTURED-LOCATION;VALUE=URI;X-ADDRESS=ACT Companion Dog Club grounds 240 Narrabundah Lane Symonston Canberra ACT 2609 Australia;X-APPLE-RADIUS=500;X-TITLE=240 Narrabundah Lane\, Symonston:geo:149.1596117,-35.3476439
END:VEVENT
BEGIN:VEVENT
DTSTART;TZID=Australia/Sydney:20171213T080000
DTEND;TZID=Australia/Sydney:20171213T170000
DTSTAMP:20260425T025201
CREATED:20161228T044859Z
LAST-MODIFIED:20170205T012507Z
UID:2326-1513152000-1513184400@dogsact.org.au
SUMMARY:Dogs ACT Council
DESCRIPTION:Meeting tonight – last for 2017
URL:https://dogsact.org.au/event/dogs-act-council-20/
LOCATION:Meeting Rooms\, Dogs ACT Office\, Cnr Stirling Ave & Federal Highway\, Mitchell\, ACT.
CATEGORIES:Monthly events
GEO:-35.2303209;149.1516455
X-APPLE-STRUCTURED-LOCATION;VALUE=URI;X-ADDRESS=Meeting Rooms Dogs ACT Office Cnr Stirling Ave & Federal Highway Mitchell ACT.;X-APPLE-RADIUS=500;X-TITLE=Cnr Stirling Ave & Federal Highway\, Mitchell\, ACT.:geo:149.1516455,-35.2303209
END:VEVENT
BEGIN:VEVENT
DTSTART;TZID=Australia/Sydney:20171214T193000
DTEND;TZID=Australia/Sydney:20171214T204500
DTSTAMP:20260425T025201
CREATED:20171120T001456Z
LAST-MODIFIED:20171120T001543Z
UID:3126-1513279800-1513284300@dogsact.org.au
SUMMARY:Dogs NSW Trainee Exams
DESCRIPTION:
URL:https://dogsact.org.au/event/dogs-nsw-trainee-exams/
LOCATION:Dogs ACT Canine Complex\, Exhibition Park\, Cnr Stirling Ave & Federal Highway\, Mitchell\, ACT.\, Canberra\, ACT\, Australia
GEO:-35.2303406;149.1516599
X-APPLE-STRUCTURED-LOCATION;VALUE=URI;X-ADDRESS=Dogs ACT Canine Complex Exhibition Park Cnr Stirling Ave & Federal Highway Mitchell ACT. Canberra ACT Australia;X-APPLE-RADIUS=500;X-TITLE=Cnr Stirling Ave & Federal Highway\, Mitchell\, ACT.:geo:149.1516599,-35.2303406
END:VEVENT
BEGIN:VEVENT
DTSTART;VALUE=DATE:20171225
DTEND;VALUE=DATE:20171226
DTSTAMP:20260425T025201
CREATED:20161228T023338Z
LAST-MODIFIED:20170205T064144Z
UID:2280-1514160000-1514246399@dogsact.org.au
SUMMARY:Christmas Day
DESCRIPTION:Public holiday
URL:https://dogsact.org.au/event/christmas-day-3/
LOCATION:ACT
CATEGORIES:Public Holiday
END:VEVENT
BEGIN:VEVENT
DTSTART;VALUE=DATE:20171226
DTEND;VALUE=DATE:20171227
DTSTAMP:20260425T025201
CREATED:20161228T023410Z
LAST-MODIFIED:20170206T212228Z
UID:2281-1514246400-1514332799@dogsact.org.au
SUMMARY:Boxing Day
DESCRIPTION:Public holiday
URL:https://dogsact.org.au/event/boxing-day-3/
LOCATION:ACT
CATEGORIES:Public Holiday
END:VEVENT
END:VCALENDAR