BEGIN:VCALENDAR
VERSION:2.0
PRODID:-//Dogs ACT - ECPv5.2.0//NONSGML v1.0//EN
CALSCALE:GREGORIAN
METHOD:PUBLISH
X-WR-CALNAME:Dogs ACT
X-ORIGINAL-URL:https://dogsact.org.au
X-WR-CALDESC:Events for Dogs ACT
BEGIN:VTIMEZONE
TZID:Australia/Sydney
BEGIN:STANDARD
TZOFFSETFROM:+1100
TZOFFSETTO:+1000
TZNAME:AEST
DTSTART:20180331T160000
END:STANDARD
BEGIN:DAYLIGHT
TZOFFSETFROM:+1000
TZOFFSETTO:+1100
TZNAME:AEDT
DTSTART:20181006T160000
END:DAYLIGHT
END:VTIMEZONE
BEGIN:VEVENT
DTSTART;TZID=Australia/Sydney:20180302T183000
DTEND;TZID=Australia/Sydney:20180302T203000
DTSTAMP:20260425T013928
CREATED:20180124T020818Z
LAST-MODIFIED:20180124T021209Z
UID:3478-1520015400-1520022600@dogsact.org.au
SUMMARY:Training: Too High/Too Low Session: Maria Thiry
DESCRIPTION:Booking form is here. \n“Is your dog too high to concentrate on their job? Have they been labelled with not coping with failure or shut down? … This session will cover a systematic process to follow to test your dog’s emotional levels and whether they are OK to work. … This session is open to all ages and levels as we won’t be doing agility at all” See the booking form for more information!
URL:https://dogsact.org.au/event/training-too-high-too-low-session-maria-thiry/
LOCATION:Dogs ACT Canine Complex\, Exhibition Park\, Cnr Stirling Ave & Federal Highway\, Mitchell\, ACT.\, Canberra\, ACT\, Australia
GEO:-35.2303406;149.1516599
X-APPLE-STRUCTURED-LOCATION;VALUE=URI;X-ADDRESS=Dogs ACT Canine Complex Exhibition Park Cnr Stirling Ave & Federal Highway Mitchell ACT. Canberra ACT Australia;X-APPLE-RADIUS=500;X-TITLE=Cnr Stirling Ave & Federal Highway\, Mitchell\, ACT.:geo:149.1516599,-35.2303406
END:VEVENT
BEGIN:VEVENT
DTSTART;TZID=Australia/Sydney:20180303T083000
DTEND;TZID=Australia/Sydney:20180305T170000
DTSTAMP:20260425T013928
CREATED:20180119T214812Z
LAST-MODIFIED:20180124T020344Z
UID:3452-1520065800-1520269200@dogsact.org.au
SUMMARY:Agility Seminars at Dogs ACT
DESCRIPTION:Dogs ACT is bringing Maria Thiry of Red Dog Agility to Canberra to conduct Agility Seminars March 2 – 4 at the Dogs ACT grounds! Attached is a booking form with all the session details on offer. Please email Amanda your booking form or any questions to bellab01@iinet.net.au \n 
URL:https://dogsact.org.au/event/agility-seminars-at-dogs-act/
LOCATION:Dogs ACT Canine Complex\, Exhibition Park\, Cnr Stirling Ave & Federal Highway\, Mitchell\, ACT.\, Canberra\, ACT\, Australia
CATEGORIES:Agility,Special Event
GEO:-35.2303406;149.1516599
X-APPLE-STRUCTURED-LOCATION;VALUE=URI;X-ADDRESS=Dogs ACT Canine Complex Exhibition Park Cnr Stirling Ave & Federal Highway Mitchell ACT. Canberra ACT Australia;X-APPLE-RADIUS=500;X-TITLE=Cnr Stirling Ave & Federal Highway\, Mitchell\, ACT.:geo:149.1516599,-35.2303406
END:VEVENT
BEGIN:VEVENT
DTSTART;TZID=Australia/Sydney:20180303T170000
DTEND;TZID=Australia/Sydney:20180303T220000
DTSTAMP:20260425T013928
CREATED:20180107T094104Z
LAST-MODIFIED:20180129T105113Z
UID:3418-1520096400-1520114400@dogsact.org.au
SUMMARY:Obedience Trial\, ACTGSDA
DESCRIPTION:Held at Dogs ACT grounds. ALL dogs welcome to enter! Schedule will be here
URL:https://dogsact.org.au/event/obedience-trial-actgsda/
LOCATION:Dogs ACT Canine Complex\, Exhibition Park\, Cnr Stirling Ave & Federal Highway\, Mitchell\, ACT.\, Canberra\, ACT\, Australia
CATEGORIES:Obedience Trials
GEO:-35.2303406;149.1516599
X-APPLE-STRUCTURED-LOCATION;VALUE=URI;X-ADDRESS=Dogs ACT Canine Complex Exhibition Park Cnr Stirling Ave & Federal Highway Mitchell ACT. Canberra ACT Australia;X-APPLE-RADIUS=500;X-TITLE=Cnr Stirling Ave & Federal Highway\, Mitchell\, ACT.:geo:149.1516599,-35.2303406
END:VEVENT
BEGIN:VEVENT
DTSTART;TZID=Australia/Sydney:20180305T183000
DTEND;TZID=Australia/Sydney:20180305T200000
DTSTAMP:20260425T013928
CREATED:20180213T050448Z
LAST-MODIFIED:20180215T013819Z
UID:3517-1520274600-1520280000@dogsact.org.au
SUMMARY:Meeting room NCKC
DESCRIPTION:NCKC meeting
URL:https://dogsact.org.au/event/meeting-room-booked/
LOCATION:ACT
CATEGORIES:Affiliate meeting,Room Hire
END:VEVENT
BEGIN:VEVENT
DTSTART;TZID=Australia/Sydney:20180306T180000
DTEND;TZID=Australia/Sydney:20180306T210000
DTSTAMP:20260425T013928
CREATED:20170906T032007Z
LAST-MODIFIED:20170915T025926Z
UID:2905-1520359200-1520370000@dogsact.org.au
SUMMARY:Agility Trial\, CDC - Ribbon Jumping
DESCRIPTION:Schedule available here \nEvening Trial! Enter via e-performance
URL:https://dogsact.org.au/event/agility-trial-3/
LOCATION:ACT Companion Dog Club grounds\, 240 Narrabundah Lane\, Symonston\, Canberra\, ACT\, 2609\, Australia
CATEGORIES:Agility
GEO:-35.3476439;149.1596117
X-APPLE-STRUCTURED-LOCATION;VALUE=URI;X-ADDRESS=ACT Companion Dog Club grounds 240 Narrabundah Lane Symonston Canberra ACT 2609 Australia;X-APPLE-RADIUS=500;X-TITLE=240 Narrabundah Lane\, Symonston:geo:149.1596117,-35.3476439
END:VEVENT
BEGIN:VEVENT
DTSTART;TZID=Australia/Sydney:20180307T190000
DTEND;TZID=Australia/Sydney:20180307T200000
DTSTAMP:20260425T013928
CREATED:20180215T013136Z
LAST-MODIFIED:20180215T013136Z
UID:3519-1520449200-1520452800@dogsact.org.au
SUMMARY:Meeting room - Extra18 meeting
DESCRIPTION:A meeting of all discipline coordinators will meet at 7pm to discuss the Epix Advance Dog Sports Extravaganza 2018. \nPlease watch calendar for next meeting date/time!
URL:https://dogsact.org.au/event/meeting-room-extra18-meeting/
LOCATION:ACT
END:VEVENT
BEGIN:VEVENT
DTSTART;VALUE=DATE:20180309
DTEND;VALUE=DATE:20180312
DTSTAMP:20260425T013928
CREATED:20171024T011521Z
LAST-MODIFIED:20171207T040321Z
UID:2977-1520553600-1520812799@dogsact.org.au
SUMMARY:Canberra All Breeds Kennel Club Inc Championship Shows
DESCRIPTION:To view schedule click here
URL:https://dogsact.org.au/event/canberra-all-breeds-kennel-club-inc-championship-shows/
LOCATION:Dogs ACT Canine Complex\, Exhibition Park\, Cnr Stirling Ave & Federal Highway\, Mitchell\, ACT.\, Canberra\, ACT\, Australia
CATEGORIES:Championship Shows
GEO:-35.2303406;149.1516599
X-APPLE-STRUCTURED-LOCATION;VALUE=URI;X-ADDRESS=Dogs ACT Canine Complex Exhibition Park Cnr Stirling Ave & Federal Highway Mitchell ACT. Canberra ACT Australia;X-APPLE-RADIUS=500;X-TITLE=Cnr Stirling Ave & Federal Highway\, Mitchell\, ACT.:geo:149.1516599,-35.2303406
END:VEVENT
BEGIN:VEVENT
DTSTART;VALUE=DATE:20180310
DTEND;VALUE=DATE:20180312
DTSTAMP:20260425T013928
CREATED:20180226T060655Z
LAST-MODIFIED:20180226T060908Z
UID:3552-1520640000-1520812799@dogsact.org.au
SUMMARY:ANKC Tracking Rules Review
DESCRIPTION:Meeting to be held in Adelaide
URL:https://dogsact.org.au/event/ankc-tracking-rules-review/
LOCATION:ACT
CATEGORIES:Dogs Australia Meeting
END:VEVENT
BEGIN:VEVENT
DTSTART;TZID=Australia/Sydney:20180310T110000
DTEND;TZID=Australia/Sydney:20180310T170000
DTSTAMP:20260425T013928
CREATED:20171115T232614Z
LAST-MODIFIED:20171207T040255Z
UID:3118-1520679600-1520701200@dogsact.org.au
SUMMARY:Breeds of East Asia Dog Club ACT Championship Show
DESCRIPTION:For schedule click here
URL:https://dogsact.org.au/event/breeds-of-east-asia-dog-club-act-championship-show/
LOCATION:ACT
CATEGORIES:Championship Shows
END:VEVENT
BEGIN:VEVENT
DTSTART;TZID=Australia/Sydney:20180310T180000
DTEND;TZID=Australia/Sydney:20180310T220000
DTSTAMP:20260425T013928
CREATED:20180102T224559Z
LAST-MODIFIED:20180206T103842Z
UID:3271-1520704800-1520719200@dogsact.org.au
SUMMARY:Rally Trials\, double\, CDC
DESCRIPTION:Schedule available here
URL:https://dogsact.org.au/event/rally-o-double-trial-cdc/
LOCATION:ACT Companion Dog Club grounds\, 240 Narrabundah Lane\, Symonston\, Canberra\, ACT\, 2609\, Australia
CATEGORIES:Rally Trial
GEO:-35.3476439;149.1596117
X-APPLE-STRUCTURED-LOCATION;VALUE=URI;X-ADDRESS=ACT Companion Dog Club grounds 240 Narrabundah Lane Symonston Canberra ACT 2609 Australia;X-APPLE-RADIUS=500;X-TITLE=240 Narrabundah Lane\, Symonston:geo:149.1596117,-35.3476439
END:VEVENT
BEGIN:VEVENT
DTSTART;VALUE=DATE:20180312
DTEND;VALUE=DATE:20180313
DTSTAMP:20260425T013928
CREATED:20180102T225522Z
LAST-MODIFIED:20180103T000043Z
UID:3280-1520812800-1520899199@dogsact.org.au
SUMMARY:Public Holiday - Canberra Day
DESCRIPTION:PUBLIC HOLIDAY CANBERRA ONLY
URL:https://dogsact.org.au/event/public-holiday-canberra-day/
LOCATION:ACT
CATEGORIES:Public Holiday
END:VEVENT
BEGIN:VEVENT
DTSTART;TZID=Australia/Sydney:20180314T193000
DTEND;TZID=Australia/Sydney:20180314T213000
DTSTAMP:20260425T013928
CREATED:20171031T083855Z
LAST-MODIFIED:20171031T083855Z
UID:3032-1521055800-1521063000@dogsact.org.au
SUMMARY:Council meeting
DESCRIPTION:Monthly Council meeting
URL:https://dogsact.org.au/event/council-meeting-3/
LOCATION:ACT
CATEGORIES:Monthly events
END:VEVENT
BEGIN:VEVENT
DTSTART;TZID=Australia/Sydney:20180316T183000
DTEND;TZID=Australia/Sydney:20180316T220000
DTSTAMP:20260425T013928
CREATED:20171127T003304Z
LAST-MODIFIED:20180115T000924Z
UID:3158-1521225000-1521237600@dogsact.org.au
SUMMARY:Obedience Trial\, evening\, ACT Companion Dog Club
DESCRIPTION:Obedience Trial at CDC on Friday evening. \nSchedule is here. \n\n\n\n\n\n\n\n\n\n\n\n\n\n\n  \n\n\n\n\n\n\n\n\n\n\n\n\n\n\n 
URL:https://dogsact.org.au/event/obedience-trial-evening-act-companion-dog-club/
LOCATION:ACT Companion Dog Club grounds\, 240 Narrabundah Lane\, Symonston\, Canberra\, ACT\, 2609\, Australia
CATEGORIES:Obedience Trials
GEO:-35.3476439;149.1596117
X-APPLE-STRUCTURED-LOCATION;VALUE=URI;X-ADDRESS=ACT Companion Dog Club grounds 240 Narrabundah Lane Symonston Canberra ACT 2609 Australia;X-APPLE-RADIUS=500;X-TITLE=240 Narrabundah Lane\, Symonston:geo:149.1596117,-35.3476439
END:VEVENT
BEGIN:VEVENT
DTSTART;TZID=Australia/Sydney:20180317T090000
DTEND;TZID=Australia/Sydney:20180318T170000
DTSTAMP:20260425T013928
CREATED:20180226T054623Z
LAST-MODIFIED:20180226T060213Z
UID:3544-1521277200-1521392400@dogsact.org.au
SUMMARY:ANKC DWD Sub-committee meeting
DESCRIPTION:Rules Review – Dancing with Dogs  – Royal on the Park – Terrace Room 1st floor -Brisbane \nAttendees are ANKC sub-committee State/Territory representatives
URL:https://dogsact.org.au/event/ankc-dwd-sub-committee-meeting/
LOCATION:ACT
CATEGORIES:Dogs Australia Meeting
END:VEVENT
BEGIN:VEVENT
DTSTART;TZID=Australia/Sydney:20180317T100000
DTEND;TZID=Australia/Sydney:20180317T160000
DTSTAMP:20260425T013928
CREATED:20180215T013611Z
LAST-MODIFIED:20180215T013611Z
UID:3521-1521280800-1521302400@dogsact.org.au
SUMMARY:Conformation JTS - Info Sessions - compulsory
DESCRIPTION:Andrew Burt (VIC) will be presenting 3 information sessions to all members of the conformation judges training scheme. \nSessions will commence at 10am sharp and are compulsory for all Canberra JTS applicants. \nCost is $10 per person and can be paid to the office prior to the event.
URL:https://dogsact.org.au/event/conformation-jts-info-sessions-compulsory/
LOCATION:ACT
CATEGORIES:JTS Judges Training Lecture,Room Hire,Special Event
END:VEVENT
BEGIN:VEVENT
DTSTART;TZID=Australia/Sydney:20180317T180000
DTEND;TZID=Australia/Sydney:20180317T220000
DTSTAMP:20260425T013928
CREATED:20170906T032816Z
LAST-MODIFIED:20180115T000457Z
UID:2907-1521309600-1521324000@dogsact.org.au
SUMMARY:Agility Trial\, BDOC - Agility & Jumping
DESCRIPTION:Schedule is here \nEvening Trial – agility and jumping. Enter on eperformance
URL:https://dogsact.org.au/event/agility-trial-bdoc/
LOCATION:Belconnen Dog Obedience Club grounds\, 1 Morisset Road\, Mitchell\, ACT\, 2912\, Australia
CATEGORIES:Agility
GEO:-35.220235;149.145894
X-APPLE-STRUCTURED-LOCATION;VALUE=URI;X-ADDRESS=Belconnen Dog Obedience Club grounds 1 Morisset Road Mitchell ACT 2912 Australia;X-APPLE-RADIUS=500;X-TITLE=1 Morisset Road:geo:149.145894,-35.220235
END:VEVENT
BEGIN:VEVENT
DTSTART;TZID=Australia/Sydney:20180324T080000
DTEND;TZID=Australia/Sydney:20180324T170000
DTSTAMP:20260425T013928
CREATED:20180321T032302Z
LAST-MODIFIED:20180321T032302Z
UID:3625-1521878400-1521910800@dogsact.org.au
SUMMARY:ANKC Health & Welfare Committee
DESCRIPTION:Kerry Olsson Dogs ACT Rep \nMeeting Sydney airport
URL:https://dogsact.org.au/event/ankc-health-welfare-committee/
LOCATION:ACT
CATEGORIES:Dogs Australia Meeting
END:VEVENT
BEGIN:VEVENT
DTSTART;TZID=Australia/Sydney:20180324T090000
DTEND;TZID=Australia/Sydney:20180324T170000
DTSTAMP:20260425T013928
CREATED:20180103T074833Z
LAST-MODIFIED:20180103T074833Z
UID:3355-1521882000-1521910800@dogsact.org.au
SUMMARY:Dancing with Dogs Trial\, BDOC
DESCRIPTION:Schedule will be available here
URL:https://dogsact.org.au/event/dancing-with-dogs-trial-bdoc-2/
LOCATION:Belconnen Dog Obedience Club grounds\, 1 Morisset Road\, Mitchell\, ACT\, 2912\, Australia
CATEGORIES:Dancing With Dogs
GEO:-35.220235;149.145894
X-APPLE-STRUCTURED-LOCATION;VALUE=URI;X-ADDRESS=Belconnen Dog Obedience Club grounds 1 Morisset Road Mitchell ACT 2912 Australia;X-APPLE-RADIUS=500;X-TITLE=1 Morisset Road:geo:149.145894,-35.220235
END:VEVENT
BEGIN:VEVENT
DTSTART;VALUE=DATE:20180330
DTEND;VALUE=DATE:20180331
DTSTAMP:20260425T013928
CREATED:20180102T225600Z
LAST-MODIFIED:20180102T235843Z
UID:3283-1522368000-1522454399@dogsact.org.au
SUMMARY:Public Holiday - Good Friday
DESCRIPTION:PUBLIC HOLIDAY
URL:https://dogsact.org.au/event/public-holiday-good-friday/
LOCATION:ACT
CATEGORIES:Public Holiday
END:VEVENT
END:VCALENDAR