BEGIN:VCALENDAR
VERSION:2.0
PRODID:-//Dogs ACT - ECPv5.2.0//NONSGML v1.0//EN
CALSCALE:GREGORIAN
METHOD:PUBLISH
X-WR-CALNAME:Dogs ACT
X-ORIGINAL-URL:https://dogsact.org.au
X-WR-CALDESC:Events for Dogs ACT
BEGIN:VTIMEZONE
TZID:Australia/Sydney
BEGIN:STANDARD
TZOFFSETFROM:+1100
TZOFFSETTO:+1000
TZNAME:AEST
DTSTART:20180331T160000
END:STANDARD
BEGIN:DAYLIGHT
TZOFFSETFROM:+1000
TZOFFSETTO:+1100
TZNAME:AEDT
DTSTART:20181006T160000
END:DAYLIGHT
END:VTIMEZONE
BEGIN:VEVENT
DTSTART;TZID=Australia/Sydney:20180804T090000
DTEND;TZID=Australia/Sydney:20180804T170000
DTSTAMP:20260425T025200
CREATED:20170906T034714Z
LAST-MODIFIED:20180905T003515Z
UID:2918-1533373200-1533402000@dogsact.org.au
SUMMARY:Agility Trial\, TDTC
DESCRIPTION:Results! \nSchedule is here \nEnter on e-performance
URL:https://dogsact.org.au/event/agility-trial-tdtc/
LOCATION:Tuggeranong Dog Training Club Grounds\, Cnr of Athllon Drive & Rowland Rees Crescent Greenway ACT\, Canberra\, ACT\, Australia
CATEGORIES:Agility
GEO:-35.4239704;149.0687626
X-APPLE-STRUCTURED-LOCATION;VALUE=URI;X-ADDRESS=Tuggeranong Dog Training Club Grounds Cnr of Athllon Drive & Rowland Rees Crescent Greenway ACT Canberra ACT Australia;X-APPLE-RADIUS=500;X-TITLE=Cnr of Athllon Drive & Rowland Rees Crescent Greenway ACT:geo:149.0687626,-35.4239704
END:VEVENT
BEGIN:VEVENT
DTSTART;TZID=Australia/Sydney:20180807T190000
DTEND;TZID=Australia/Sydney:20180807T210000
DTSTAMP:20260425T025200
CREATED:20180524T045343Z
LAST-MODIFIED:20180524T045343Z
UID:3953-1533668400-1533675600@dogsact.org.au
SUMMARY:JTS Hounds
DESCRIPTION:Saluki \nSloughi
URL:https://dogsact.org.au/event/jts-hounds-9/
LOCATION:ACT
CATEGORIES:JTS Judges Training Lecture
END:VEVENT
BEGIN:VEVENT
DTSTART;TZID=Australia/Sydney:20180808T193000
DTEND;TZID=Australia/Sydney:20180808T213000
DTSTAMP:20260425T025200
CREATED:20171031T084821Z
LAST-MODIFIED:20171031T084821Z
UID:3038-1533756600-1533763800@dogsact.org.au
SUMMARY:Council
DESCRIPTION:Monthly council meeting
URL:https://dogsact.org.au/event/council-2/
LOCATION:ACT
CATEGORIES:Monthly events
END:VEVENT
BEGIN:VEVENT
DTSTART;VALUE=DATE:20180809
DTEND;VALUE=DATE:20180811
DTSTAMP:20260425T025200
CREATED:20180403T234945Z
LAST-MODIFIED:20180406T101731Z
UID:3740-1533772800-1533945599@dogsact.org.au
SUMMARY:Cocker Spaniel NATIONAL
DESCRIPTION:The 18th Cocker Spaniel National will be held in Queensland at Rocklea Showgrounds \nSchedule is here
URL:https://dogsact.org.au/event/cocker-spaniel-national/
LOCATION:ACT
CATEGORIES:Championship Shows,NATIONAL
END:VEVENT
BEGIN:VEVENT
DTSTART;TZID=Australia/Sydney:20180813T190000
DTEND;TZID=Australia/Sydney:20180813T210000
DTSTAMP:20260425T025200
CREATED:20180801T234602Z
LAST-MODIFIED:20180801T234612Z
UID:4147-1534186800-1534194000@dogsact.org.au
SUMMARY:AGM ACT & District Staffordshire Bull Terrier Club
DESCRIPTION:
URL:https://dogsact.org.au/event/agm-act-district-staffordshire-bull-terrier-club/
LOCATION:Dogs ACT Canine Complex\, Exhibition Park\, Cnr Stirling Ave & Federal Highway\, Mitchell\, ACT.\, Canberra\, ACT\, Australia
GEO:-35.2303406;149.1516599
X-APPLE-STRUCTURED-LOCATION;VALUE=URI;X-ADDRESS=Dogs ACT Canine Complex Exhibition Park Cnr Stirling Ave & Federal Highway Mitchell ACT. Canberra ACT Australia;X-APPLE-RADIUS=500;X-TITLE=Cnr Stirling Ave & Federal Highway\, Mitchell\, ACT.:geo:149.1516599,-35.2303406
END:VEVENT
BEGIN:VEVENT
DTSTART;TZID=Australia/Sydney:20180814T193000
DTEND;TZID=Australia/Sydney:20180814T213000
DTSTAMP:20260425T025200
CREATED:20180724T054538Z
LAST-MODIFIED:20180724T054538Z
UID:4134-1534275000-1534282200@dogsact.org.au
SUMMARY:Hound Club of the ACT - AGM
DESCRIPTION:Annual General Meeting of the Hound Club of the ACT will take place tonight in the Dogs ACT meeting rooms at 7.30pm. \nPlease be ready to start promptly at 7.30pm – only financial members can vote \nAny enquiries please contact Robyn O’Keefe\, Secretary
URL:https://dogsact.org.au/event/hound-club-of-the-act-agm/
LOCATION:ACT
CATEGORIES:Affiliate meeting,Room Hire
END:VEVENT
BEGIN:VEVENT
DTSTART;TZID=Australia/Sydney:20180818T090000
DTEND;TZID=Australia/Sydney:20180818T170000
DTSTAMP:20260425T025200
CREATED:20170906T034814Z
LAST-MODIFIED:20180503T101022Z
UID:2919-1534582800-1534611600@dogsact.org.au
SUMMARY:Agility Trial\, BDOC
DESCRIPTION:Schedule is here
URL:https://dogsact.org.au/event/agility-trial-bdoc-2/
LOCATION:Belconnen Dog Obedience Club grounds\, 1 Morisset Road\, Mitchell\, ACT\, 2912\, Australia
CATEGORIES:Agility
GEO:-35.220235;149.145894
X-APPLE-STRUCTURED-LOCATION;VALUE=URI;X-ADDRESS=Belconnen Dog Obedience Club grounds 1 Morisset Road Mitchell ACT 2912 Australia;X-APPLE-RADIUS=500;X-TITLE=1 Morisset Road:geo:149.145894,-35.220235
END:VEVENT
BEGIN:VEVENT
DTSTART;TZID=Australia/Sydney:20180824T193000
DTEND;TZID=Australia/Sydney:20180824T213000
DTSTAMP:20260425T025200
CREATED:20180822T012957Z
LAST-MODIFIED:20180822T013006Z
UID:4294-1535139000-1535146200@dogsact.org.au
SUMMARY:Judges Training Lecture
DESCRIPTION:
URL:https://dogsact.org.au/event/judges-training-lecture/
LOCATION:Dogs ACT Canine Complex\, Exhibition Park\, Cnr Stirling Ave & Federal Highway\, Mitchell\, ACT.\, Canberra\, ACT\, Australia
GEO:-35.2303406;149.1516599
X-APPLE-STRUCTURED-LOCATION;VALUE=URI;X-ADDRESS=Dogs ACT Canine Complex Exhibition Park Cnr Stirling Ave & Federal Highway Mitchell ACT. Canberra ACT Australia;X-APPLE-RADIUS=500;X-TITLE=Cnr Stirling Ave & Federal Highway\, Mitchell\, ACT.:geo:149.1516599,-35.2303406
END:VEVENT
BEGIN:VEVENT
DTSTART;TZID=Australia/Sydney:20180825T090000
DTEND;TZID=Australia/Sydney:20180825T170000
DTSTAMP:20260425T025200
CREATED:20180103T074425Z
LAST-MODIFIED:20180805T213445Z
UID:3350-1535187600-1535216400@dogsact.org.au
SUMMARY:2 Obedience Trials on 1 day at BDOC
DESCRIPTION:Enter now\, 2 trials at Belconnen Dog Obedience Club \nSchedule is available here
URL:https://dogsact.org.au/event/obedience-trials-bdoc-2/
LOCATION:Belconnen Dog Obedience Club grounds\, 1 Morisset Road\, Mitchell\, ACT\, 2912\, Australia
CATEGORIES:Obedience Trials
GEO:-35.220235;149.145894
X-APPLE-STRUCTURED-LOCATION;VALUE=URI;X-ADDRESS=Belconnen Dog Obedience Club grounds 1 Morisset Road Mitchell ACT 2912 Australia;X-APPLE-RADIUS=500;X-TITLE=1 Morisset Road:geo:149.145894,-35.220235
END:VEVENT
BEGIN:VEVENT
DTSTART;TZID=Australia/Sydney:20180901T093000
DTEND;TZID=Australia/Sydney:20180901T170000
DTSTAMP:20260425T025200
CREATED:20171127T004526Z
LAST-MODIFIED:20180905T003946Z
UID:3162-1535794200-1535821200@dogsact.org.au
SUMMARY:Obedience Trial\, am\, ACT Gundogs Society
DESCRIPTION:Results! \nALL dogs welcome to enter this Obedience Trial! \nStart time: 9.00am\, followed by CDC’s Obedience Trial. Schedule is here
URL:https://dogsact.org.au/event/obedience-trial-act-gundogs-society/
LOCATION:ACT Companion Dog Club grounds\, 240 Narrabundah Lane\, Symonston\, Canberra\, ACT\, 2609\, Australia
CATEGORIES:Obedience Trials
GEO:-35.3476439;149.1596117
X-APPLE-STRUCTURED-LOCATION;VALUE=URI;X-ADDRESS=ACT Companion Dog Club grounds 240 Narrabundah Lane Symonston Canberra ACT 2609 Australia;X-APPLE-RADIUS=500;X-TITLE=240 Narrabundah Lane\, Symonston:geo:149.1596117,-35.3476439
END:VEVENT
BEGIN:VEVENT
DTSTART;TZID=Australia/Sydney:20180901T120000
DTEND;TZID=Australia/Sydney:20180901T170000
DTSTAMP:20260425T025200
CREATED:20171127T004336Z
LAST-MODIFIED:20180905T004107Z
UID:3161-1535803200-1535821200@dogsact.org.au
SUMMARY:Obedience Trial\, pm\, ACT Companion Dog Club
DESCRIPTION:Results! \nStart time: after the ACT Gundogs’ Obedience Trial which is in the morning. Schedules are here. \nAll dogs welcome to enter the ACT Gundogs Obedience Trial. \n\n\n\n\n\n\n\n\n\n\n\n\n\n\n 
URL:https://dogsact.org.au/event/obedience-trial-act-companion-dog-club/
LOCATION:ACT Companion Dog Club grounds\, 240 Narrabundah Lane\, Symonston\, Canberra\, ACT\, 2609\, Australia
CATEGORIES:Obedience Trials
GEO:-35.3476439;149.1596117
X-APPLE-STRUCTURED-LOCATION;VALUE=URI;X-ADDRESS=ACT Companion Dog Club grounds 240 Narrabundah Lane Symonston Canberra ACT 2609 Australia;X-APPLE-RADIUS=500;X-TITLE=240 Narrabundah Lane\, Symonston:geo:149.1596117,-35.3476439
END:VEVENT
END:VCALENDAR