BEGIN:VCALENDAR
VERSION:2.0
PRODID:-//Dogs ACT - ECPv5.2.0//NONSGML v1.0//EN
CALSCALE:GREGORIAN
METHOD:PUBLISH
X-WR-CALNAME:Dogs ACT
X-ORIGINAL-URL:https://dogsact.org.au
X-WR-CALDESC:Events for Dogs ACT
BEGIN:VTIMEZONE
TZID:Australia/Sydney
BEGIN:STANDARD
TZOFFSETFROM:+1100
TZOFFSETTO:+1000
TZNAME:AEST
DTSTART:20180331T160000
END:STANDARD
BEGIN:DAYLIGHT
TZOFFSETFROM:+1000
TZOFFSETTO:+1100
TZNAME:AEDT
DTSTART:20181006T160000
END:DAYLIGHT
END:VTIMEZONE
BEGIN:VEVENT
DTSTART;VALUE=DATE:20181001
DTEND;VALUE=DATE:20181002
DTSTAMP:20260425T001734
CREATED:20180102T225859Z
LAST-MODIFIED:20181002T002716Z
UID:3296-1538352000-1538438399@dogsact.org.au
SUMMARY:Public Holiday - Labour Day
DESCRIPTION:PUBLIC HOLIDAY \n  \nDogs ACT All breeds Show \nMarked catalogue here
URL:https://dogsact.org.au/event/public-holiday-labour-day-2/
LOCATION:ACT
CATEGORIES:Public Holiday
END:VEVENT
BEGIN:VEVENT
DTSTART;VALUE=DATE:20181006
DTEND;VALUE=DATE:20181007
DTSTAMP:20260425T001734
CREATED:20180606T005030Z
LAST-MODIFIED:20180606T005030Z
UID:4049-1538784000-1538870399@dogsact.org.au
SUMMARY:Afghan Hound NATIONAL NSW
DESCRIPTION:Afghan Hound Club NSW are holding a NATIONAL Champ Show \nBill Spilstead Complex Orchard Hills NSW
URL:https://dogsact.org.au/event/afghan-hound-national-nsw/
LOCATION:ACT
CATEGORIES:Championship Shows,NATIONAL
END:VEVENT
BEGIN:VEVENT
DTSTART;VALUE=DATE:20181006
DTEND;VALUE=DATE:20181007
DTSTAMP:20260425T001734
CREATED:20180823T012508Z
LAST-MODIFIED:20180823T012516Z
UID:4300-1538784000-1538870399@dogsact.org.au
SUMMARY:21st Afghan Hound National Specialty Show - Orchard Hills
DESCRIPTION:To view schedule click here
URL:https://dogsact.org.au/event/21st-afghan-hound-national-specialty-show-orchard-hills/
LOCATION:ACT
END:VEVENT
BEGIN:VEVENT
DTSTART;TZID=Australia/Sydney:20181006T090000
DTEND;TZID=Australia/Sydney:20181007T170000
DTSTAMP:20260425T001734
CREATED:20170906T035126Z
LAST-MODIFIED:20180420T051526Z
UID:2921-1538816400-1538931600@dogsact.org.au
SUMMARY:Agility Trial\, Dogs ACT Agility Titles
DESCRIPTION:Schedule is here \nAgility Trials over 2 days. Enter at e-performance \nSaturday starts at 9am. Sunday starts at 8.30am.
URL:https://dogsact.org.au/event/agility-trial-dogs-act-agility-titles/
LOCATION:ACT Companion Dog Club grounds\, 240 Narrabundah Lane\, Symonston\, Canberra\, ACT\, 2609\, Australia
CATEGORIES:Agility
GEO:-35.3476439;149.1596117
X-APPLE-STRUCTURED-LOCATION;VALUE=URI;X-ADDRESS=ACT Companion Dog Club grounds 240 Narrabundah Lane Symonston Canberra ACT 2609 Australia;X-APPLE-RADIUS=500;X-TITLE=240 Narrabundah Lane\, Symonston:geo:149.1596117,-35.3476439
END:VEVENT
BEGIN:VEVENT
DTSTART;TZID=Australia/Sydney:20181010T193000
DTEND;TZID=Australia/Sydney:20181010T213000
DTSTAMP:20260425T001734
CREATED:20171031T085131Z
LAST-MODIFIED:20171031T085131Z
UID:3041-1539199800-1539207000@dogsact.org.au
SUMMARY:Council
DESCRIPTION:Monthly council meeting
URL:https://dogsact.org.au/event/council-4/
LOCATION:ACT
CATEGORIES:Monthly events
END:VEVENT
BEGIN:VEVENT
DTSTART;TZID=Australia/Sydney:20181011T183000
DTEND;TZID=Australia/Sydney:20181011T200000
DTSTAMP:20260425T001734
CREATED:20180918T002622Z
LAST-MODIFIED:20180918T002622Z
UID:4353-1539282600-1539288000@dogsact.org.au
SUMMARY:CKCS Club of Canberra 2018 AGM
DESCRIPTION:
URL:https://dogsact.org.au/event/ckcs-club-of-canberra-2018-agm/
LOCATION:Dogs ACT Canine Complex\, Exhibition Park\, Cnr Stirling Ave & Federal Highway\, Mitchell\, ACT.\, Canberra\, ACT\, Australia
GEO:-35.2303406;149.1516599
X-APPLE-STRUCTURED-LOCATION;VALUE=URI;X-ADDRESS=Dogs ACT Canine Complex Exhibition Park Cnr Stirling Ave & Federal Highway Mitchell ACT. Canberra ACT Australia;X-APPLE-RADIUS=500;X-TITLE=Cnr Stirling Ave & Federal Highway\, Mitchell\, ACT.:geo:149.1516599,-35.2303406
END:VEVENT
BEGIN:VEVENT
DTSTART;VALUE=DATE:20181013
DTEND;VALUE=DATE:20181015
DTSTAMP:20260425T001734
CREATED:20180612T071955Z
LAST-MODIFIED:20180612T071955Z
UID:4072-1539388800-1539561599@dogsact.org.au
SUMMARY:ANKC AGM & Meeting Melb
DESCRIPTION:Meeting of the Board Directors of the ANKC will be held 13 & 14 October\, 2018 commencing at the conclusion of the AGM which commences at 9.00AM  \nAll agenda items must be sent to Dogs ACT before the end of July to meet deadlines.
URL:https://dogsact.org.au/event/ankc-agm-meeting-melb/
LOCATION:ACT
CATEGORIES:Dogs Australia Meeting
END:VEVENT
BEGIN:VEVENT
DTSTART;VALUE=DATE:20181013
DTEND;VALUE=DATE:20181015
DTSTAMP:20260425T001734
CREATED:20180626T040051Z
LAST-MODIFIED:20180626T070950Z
UID:4115-1539388800-1539561599@dogsact.org.au
SUMMARY:Dalmatian National NSW
DESCRIPTION:The Dalmatian National will be held for all disciplines at Orchard Hills/Erskine Park … Conformation show Sat 13th \, Obedience\, Agility\, Rally O Sun 14th \nNo ccs will be awarded for Dalmatians on Sat 13th… \nSchedule is posted here 
URL:https://dogsact.org.au/event/dalmatian-national-nsw/
LOCATION:ACT
CATEGORIES:Agility,Championship Shows,NATIONAL,Obedience Trials,Rally Trial
END:VEVENT
BEGIN:VEVENT
DTSTART;TZID=Australia/Sydney:20181013T080000
DTEND;TZID=Australia/Sydney:20181013T170000
DTSTAMP:20260425T001734
CREATED:20180523T032040Z
LAST-MODIFIED:20180523T033313Z
UID:3938-1539417600-1539450000@dogsact.org.au
SUMMARY:Heart Clinic - Dr Beijerink
DESCRIPTION:CKCS Club of Canberra have organized for Dr Beijerink to hold a heart clinic in Canberra on Saturday\, 13 October 2018. \nMore details to come soon. \n 
URL:https://dogsact.org.au/event/heart-clinic-dr-beijerink/
LOCATION:Dogs ACT Canine Complex\, Exhibition Park\, Cnr Stirling Ave & Federal Highway\, Mitchell\, ACT.\, Canberra\, ACT\, Australia
GEO:-35.2303406;149.1516599
X-APPLE-STRUCTURED-LOCATION;VALUE=URI;X-ADDRESS=Dogs ACT Canine Complex Exhibition Park Cnr Stirling Ave & Federal Highway Mitchell ACT. Canberra ACT Australia;X-APPLE-RADIUS=500;X-TITLE=Cnr Stirling Ave & Federal Highway\, Mitchell\, ACT.:geo:149.1516599,-35.2303406
END:VEVENT
BEGIN:VEVENT
DTSTART;TZID=Australia/Sydney:20181013T160000
DTEND;TZID=Australia/Sydney:20181013T220000
DTSTAMP:20260425T001734
CREATED:20180102T230352Z
LAST-MODIFIED:20181002T073526Z
UID:3308-1539446400-1539468000@dogsact.org.au
SUMMARY:Rally Trials\, CDC
DESCRIPTION:To view schedule click here
URL:https://dogsact.org.au/event/rally-trials-cdc/
LOCATION:ACT Companion Dog Club grounds\, 240 Narrabundah Lane\, Symonston\, Canberra\, ACT\, 2609\, Australia
CATEGORIES:Rally Trial
GEO:-35.3476439;149.1596117
X-APPLE-STRUCTURED-LOCATION;VALUE=URI;X-ADDRESS=ACT Companion Dog Club grounds 240 Narrabundah Lane Symonston Canberra ACT 2609 Australia;X-APPLE-RADIUS=500;X-TITLE=240 Narrabundah Lane\, Symonston:geo:149.1596117,-35.3476439
END:VEVENT
BEGIN:VEVENT
DTSTART;TZID=Australia/Sydney:20181018T180000
DTEND;TZID=Australia/Sydney:20181018T180000
DTSTAMP:20260425T001734
CREATED:20170906T035238Z
LAST-MODIFIED:20180103T072745Z
UID:2922-1539885600-1539885600@dogsact.org.au
SUMMARY:Agility Trial\, TDTC - Ribbon Agility
DESCRIPTION:Schedule available here \nEnter on e-performance
URL:https://dogsact.org.au/event/agility-trial-tdtc-ribbon-agility/
LOCATION:Tuggeranong Dog Training Club Grounds\, Cnr of Athllon Drive & Rowland Rees Crescent Greenway ACT\, Canberra\, ACT\, Australia
CATEGORIES:Agility
GEO:-35.4239704;149.0687626
X-APPLE-STRUCTURED-LOCATION;VALUE=URI;X-ADDRESS=Tuggeranong Dog Training Club Grounds Cnr of Athllon Drive & Rowland Rees Crescent Greenway ACT Canberra ACT Australia;X-APPLE-RADIUS=500;X-TITLE=Cnr of Athllon Drive & Rowland Rees Crescent Greenway ACT:geo:149.0687626,-35.4239704
END:VEVENT
BEGIN:VEVENT
DTSTART;VALUE=DATE:20181020
DTEND;VALUE=DATE:20181021
DTSTAMP:20260425T001734
CREATED:20181003T010525Z
LAST-MODIFIED:20181003T023449Z
UID:4409-1539993600-1540079999@dogsact.org.au
SUMMARY:Conformation Stewarding Course
DESCRIPTION:For all those potential stewards who need to be trained – you cannot steward in the ACT without having this or another states training – a training course will be conducted at Dogs ACT rooms all day. \nPlease register your interest in attending at the office on admin@dogsact..org.au \nCost is $70 per person and is to be prepaid prior to attendance.
URL:https://dogsact.org.au/event/conformation-stewarding-course/
LOCATION:ACT
CATEGORIES:Room Hire,Special Event
END:VEVENT
BEGIN:VEVENT
DTSTART;TZID=Australia/Sydney:20181020T090000
DTEND;TZID=Australia/Sydney:20181021T170000
DTSTAMP:20260425T001734
CREATED:20180614T120558Z
LAST-MODIFIED:20180614T120713Z
UID:4083-1540026000-1540141200@dogsact.org.au
SUMMARY:Agility Seminars at Dogs ACT
DESCRIPTION:Dogs ACT is bringing Maria Thiry of Red Dog Agility to Canberra again! \nDetails available soon.
URL:https://dogsact.org.au/event/agility-seminars-at-dogs-act-2/
LOCATION:Dogs ACT Canine Complex\, Exhibition Park\, Cnr Stirling Ave & Federal Highway\, Mitchell\, ACT.\, Canberra\, ACT\, Australia
CATEGORIES:Agility,Special Event
GEO:-35.2303406;149.1516599
X-APPLE-STRUCTURED-LOCATION;VALUE=URI;X-ADDRESS=Dogs ACT Canine Complex Exhibition Park Cnr Stirling Ave & Federal Highway Mitchell ACT. Canberra ACT Australia;X-APPLE-RADIUS=500;X-TITLE=Cnr Stirling Ave & Federal Highway\, Mitchell\, ACT.:geo:149.1516599,-35.2303406
END:VEVENT
BEGIN:VEVENT
DTSTART;TZID=Australia/Sydney:20181023T190000
DTEND;TZID=Australia/Sydney:20181023T200000
DTSTAMP:20260425T001734
CREATED:20181003T023753Z
LAST-MODIFIED:20181023T013114Z
UID:4413-1540321200-1540324800@dogsact.org.au
SUMMARY:Members Night
DESCRIPTION:Members Night is where members can attend and learn what is happening at Dogs ACT and what is in its future. \nIt is compulsory that all affiliates send a representative for each club to attend. \nMeeting will start at 7pm sharp. \nAgenda for Dogs ACT Members Meeting 23 October 2018 \n\nShow days weekends ring set up and cleaning\nUpdate from the treasurer on the July show\nShow calendar for shows update to 2020  (by December 2018)\nSummer show circuit\nUpdate on discussions with EPIC\nUpdate on discussions with DAS\, future open meeting with DAS\nGrounds (Market days)\nOverhead power lines bottom rings\nWells station road carpark update\nJudges training
URL:https://dogsact.org.au/event/members-night/
LOCATION:ACT
CATEGORIES:Affiliate meeting,Special Event
END:VEVENT
BEGIN:VEVENT
DTSTART;TZID=Australia/Sydney:20181027T090000
DTEND;TZID=Australia/Sydney:20181027T170000
DTSTAMP:20260425T001734
CREATED:20171207T034628Z
LAST-MODIFIED:20181007T095414Z
UID:3185-1540630800-1540659600@dogsact.org.au
SUMMARY:Obedience Trials\, double\, Tuggeranong Dog Training Club
DESCRIPTION:Schedule is here
URL:https://dogsact.org.au/event/obedience-trials-double-tdtc-2/
LOCATION:Tuggeranong Dog Training Club Grounds\, Cnr of Athllon Drive & Rowland Rees Crescent Greenway ACT\, Canberra\, ACT\, Australia
CATEGORIES:Obedience Trials
GEO:-35.4239704;149.0687626
X-APPLE-STRUCTURED-LOCATION;VALUE=URI;X-ADDRESS=Tuggeranong Dog Training Club Grounds Cnr of Athllon Drive & Rowland Rees Crescent Greenway ACT Canberra ACT Australia;X-APPLE-RADIUS=500;X-TITLE=Cnr of Athllon Drive & Rowland Rees Crescent Greenway ACT:geo:149.0687626,-35.4239704
END:VEVENT
BEGIN:VEVENT
DTSTART;TZID=Australia/Sydney:20181103T090000
DTEND;TZID=Australia/Sydney:20181103T170000
DTSTAMP:20260425T001734
CREATED:20170906T035417Z
LAST-MODIFIED:20181008T051634Z
UID:2923-1541235600-1541264400@dogsact.org.au
SUMMARY:Agility Trial\, CDC - Agility & Jumping
DESCRIPTION:Schedule is here \nEnter at e-performance
URL:https://dogsact.org.au/event/agility-trial-cdc-agility-jumping/
LOCATION:ACT Companion Dog Club grounds\, 240 Narrabundah Lane\, Symonston\, Canberra\, ACT\, 2609\, Australia
CATEGORIES:Agility
GEO:-35.3476439;149.1596117
X-APPLE-STRUCTURED-LOCATION;VALUE=URI;X-ADDRESS=ACT Companion Dog Club grounds 240 Narrabundah Lane Symonston Canberra ACT 2609 Australia;X-APPLE-RADIUS=500;X-TITLE=240 Narrabundah Lane\, Symonston:geo:149.1596117,-35.3476439
END:VEVENT
END:VCALENDAR