BEGIN:VCALENDAR
VERSION:2.0
PRODID:-//Dogs ACT - ECPv5.2.0//NONSGML v1.0//EN
CALSCALE:GREGORIAN
METHOD:PUBLISH
X-WR-CALNAME:Dogs ACT
X-ORIGINAL-URL:https://dogsact.org.au
X-WR-CALDESC:Events for Dogs ACT
BEGIN:VTIMEZONE
TZID:Australia/Sydney
BEGIN:STANDARD
TZOFFSETFROM:+1100
TZOFFSETTO:+1000
TZNAME:AEST
DTSTART:20180331T160000
END:STANDARD
BEGIN:DAYLIGHT
TZOFFSETFROM:+1000
TZOFFSETTO:+1100
TZNAME:AEDT
DTSTART:20181006T160000
END:DAYLIGHT
END:VTIMEZONE
BEGIN:VEVENT
DTSTART;TZID=Australia/Sydney:20181103T090000
DTEND;TZID=Australia/Sydney:20181103T170000
DTSTAMP:20260424T224604
CREATED:20170906T035417Z
LAST-MODIFIED:20181008T051634Z
UID:2923-1541235600-1541264400@dogsact.org.au
SUMMARY:Agility Trial\, CDC - Agility & Jumping
DESCRIPTION:Schedule is here \nEnter at e-performance
URL:https://dogsact.org.au/event/agility-trial-cdc-agility-jumping/
LOCATION:ACT Companion Dog Club grounds\, 240 Narrabundah Lane\, Symonston\, Canberra\, ACT\, 2609\, Australia
CATEGORIES:Agility
GEO:-35.3476439;149.1596117
X-APPLE-STRUCTURED-LOCATION;VALUE=URI;X-ADDRESS=ACT Companion Dog Club grounds 240 Narrabundah Lane Symonston Canberra ACT 2609 Australia;X-APPLE-RADIUS=500;X-TITLE=240 Narrabundah Lane\, Symonston:geo:149.1596117,-35.3476439
END:VEVENT
BEGIN:VEVENT
DTSTART;VALUE=DATE:20181110
DTEND;VALUE=DATE:20181112
DTSTAMP:20260424T224604
CREATED:20180321T063125Z
LAST-MODIFIED:20181023T043008Z
UID:3677-1541808000-1541980799@dogsact.org.au
SUMMARY:Cavalier King Charles Championship Shows
DESCRIPTION:Indoor shows Quokka Pavilion… \n2 International Judges – Schedule for both shows can be found here
URL:https://dogsact.org.au/event/cavalier-king-charles-championship-shows/
LOCATION:Exhibition Park in Canberra\, 10 Flemington Road\, Mitchell\, ACT\, Australia
CATEGORIES:Championship Shows
GEO:-35.2285192;149.1444562
X-APPLE-STRUCTURED-LOCATION;VALUE=URI;X-ADDRESS=Exhibition Park in Canberra 10 Flemington Road Mitchell ACT Australia;X-APPLE-RADIUS=500;X-TITLE=10 Flemington Road:geo:149.1444562,-35.2285192
END:VEVENT
BEGIN:VEVENT
DTSTART;TZID=Australia/Sydney:20181110T183000
DTEND;TZID=Australia/Sydney:20181110T223000
DTSTAMP:20260424T224604
CREATED:20171127T004657Z
LAST-MODIFIED:20181030T041158Z
UID:3163-1541874600-1541889000@dogsact.org.au
SUMMARY:Obedience Trial\, evening\, ACT Companion Dog Club
DESCRIPTION:Schedule is here \n\n\n\n\n\n\n\n\n\n\n\n\n\n\n 
URL:https://dogsact.org.au/event/obedience-trial-evening-act-companion-dog-club-2/
LOCATION:ACT Companion Dog Club grounds\, 240 Narrabundah Lane\, Symonston\, Canberra\, ACT\, 2609\, Australia
CATEGORIES:Obedience Trials
GEO:-35.3476439;149.1596117
X-APPLE-STRUCTURED-LOCATION;VALUE=URI;X-ADDRESS=ACT Companion Dog Club grounds 240 Narrabundah Lane Symonston Canberra ACT 2609 Australia;X-APPLE-RADIUS=500;X-TITLE=240 Narrabundah Lane\, Symonston:geo:149.1596117,-35.3476439
END:VEVENT
BEGIN:VEVENT
DTSTART;TZID=Australia/Sydney:20181114T193000
DTEND;TZID=Australia/Sydney:20181114T213000
DTSTAMP:20260424T224604
CREATED:20171031T085221Z
LAST-MODIFIED:20171031T085221Z
UID:3042-1542223800-1542231000@dogsact.org.au
SUMMARY:Council
DESCRIPTION:Monthly council meeting
URL:https://dogsact.org.au/event/council-5/
LOCATION:ACT
CATEGORIES:Monthly events
END:VEVENT
BEGIN:VEVENT
DTSTART;TZID=Australia/Sydney:20181117T090000
DTEND;TZID=Australia/Sydney:20181117T170000
DTSTAMP:20260424T224604
CREATED:20180102T230519Z
LAST-MODIFIED:20181007T095704Z
UID:3310-1542445200-1542474000@dogsact.org.au
SUMMARY:Rally Trials\, Belconnen Dog Obedience Club
DESCRIPTION:Schedule is here \n 
URL:https://dogsact.org.au/event/rally-trials-bdoc/
LOCATION:Belconnen Dog Obedience Club grounds\, 1 Morisset Road\, Mitchell\, ACT\, 2912\, Australia
CATEGORIES:Rally Trial
GEO:-35.220235;149.145894
X-APPLE-STRUCTURED-LOCATION;VALUE=URI;X-ADDRESS=Belconnen Dog Obedience Club grounds 1 Morisset Road Mitchell ACT 2912 Australia;X-APPLE-RADIUS=500;X-TITLE=1 Morisset Road:geo:149.145894,-35.220235
END:VEVENT
BEGIN:VEVENT
DTSTART;TZID=Australia/Sydney:20181117T090000
DTEND;TZID=Australia/Sydney:20181118T170000
DTSTAMP:20260424T224604
CREATED:20180321T041224Z
LAST-MODIFIED:20180730T013709Z
UID:3638-1542445200-1542560400@dogsact.org.au
SUMMARY:ACT Bull Terrier Club 3 Championship Shows
DESCRIPTION:Three (3) shows over 2 days.  Two shows Saturday\, 1 on Sunday. \nSchedule can be viewed here
URL:https://dogsact.org.au/event/act-bull-terrier-club-3-championship-shows/
LOCATION:Dogs ACT Canine Complex\, Exhibition Park\, Cnr Stirling Ave & Federal Highway\, Mitchell\, ACT.\, Canberra\, ACT\, Australia
CATEGORIES:Championship Shows
GEO:-35.2303406;149.1516599
X-APPLE-STRUCTURED-LOCATION;VALUE=URI;X-ADDRESS=Dogs ACT Canine Complex Exhibition Park Cnr Stirling Ave & Federal Highway Mitchell ACT. Canberra ACT Australia;X-APPLE-RADIUS=500;X-TITLE=Cnr Stirling Ave & Federal Highway\, Mitchell\, ACT.:geo:149.1516599,-35.2303406
END:VEVENT
BEGIN:VEVENT
DTSTART;TZID=Australia/Sydney:20181119T180000
DTEND;TZID=Australia/Sydney:20181119T210000
DTSTAMP:20260424T224604
CREATED:20170906T035522Z
LAST-MODIFIED:20180103T072506Z
UID:2924-1542650400-1542661200@dogsact.org.au
SUMMARY:Agility Trial\, BDOC - Ribbon Jumping
DESCRIPTION:Schedule available here
URL:https://dogsact.org.au/event/agility-trial-bdoc-ribbon-jumping-2/
LOCATION:Belconnen Dog Obedience Club grounds\, 1 Morisset Road\, Mitchell\, ACT\, 2912\, Australia
CATEGORIES:Agility
GEO:-35.220235;149.145894
X-APPLE-STRUCTURED-LOCATION;VALUE=URI;X-ADDRESS=Belconnen Dog Obedience Club grounds 1 Morisset Road Mitchell ACT 2912 Australia;X-APPLE-RADIUS=500;X-TITLE=1 Morisset Road:geo:149.145894,-35.220235
END:VEVENT
BEGIN:VEVENT
DTSTART;TZID=Australia/Sydney:20181124T080000
DTEND;TZID=Australia/Sydney:20181125T170000
DTSTAMP:20260424T224604
CREATED:20180507T044513Z
LAST-MODIFIED:20181122T064347Z
UID:3891-1543046400-1543165200@dogsact.org.au
SUMMARY:Belconnen All Breeds Kennel Club Inc
DESCRIPTION:Catalogues are here: \nSaturday\, 24th\, AM \nSaturday\, 24th\, PM \nSunday\, 25th \nThree All breeds Championship shows over 2 days \nTo view Schedule click here
URL:https://dogsact.org.au/event/belconnen-all-breeds-kennel-club-inc/
LOCATION:Dogs ACT Canine Complex\, Exhibition Park\, Cnr Stirling Ave & Federal Highway\, Mitchell\, ACT.\, Canberra\, ACT\, Australia
GEO:-35.2303406;149.1516599
X-APPLE-STRUCTURED-LOCATION;VALUE=URI;X-ADDRESS=Dogs ACT Canine Complex Exhibition Park Cnr Stirling Ave & Federal Highway Mitchell ACT. Canberra ACT Australia;X-APPLE-RADIUS=500;X-TITLE=Cnr Stirling Ave & Federal Highway\, Mitchell\, ACT.:geo:149.1516599,-35.2303406
END:VEVENT
BEGIN:VEVENT
DTSTART;TZID=Australia/Sydney:20181124T090000
DTEND;TZID=Australia/Sydney:20181124T170000
DTSTAMP:20260424T224604
CREATED:20171207T034725Z
LAST-MODIFIED:20181007T095843Z
UID:3186-1543050000-1543078800@dogsact.org.au
SUMMARY:Rally Trials\, Tuggeranong Dog Training Club
DESCRIPTION:Schedule is here
URL:https://dogsact.org.au/event/rally-obedience-trials-double-tdtc-2/
LOCATION:Tuggeranong Dog Training Club Grounds\, Cnr of Athllon Drive & Rowland Rees Crescent Greenway ACT\, Canberra\, ACT\, Australia
CATEGORIES:Rally Trial
GEO:-35.4239704;149.0687626
X-APPLE-STRUCTURED-LOCATION;VALUE=URI;X-ADDRESS=Tuggeranong Dog Training Club Grounds Cnr of Athllon Drive & Rowland Rees Crescent Greenway ACT Canberra ACT Australia;X-APPLE-RADIUS=500;X-TITLE=Cnr of Athllon Drive & Rowland Rees Crescent Greenway ACT:geo:149.0687626,-35.4239704
END:VEVENT
BEGIN:VEVENT
DTSTART;TZID=Australia/Sydney:20181128T193000
DTEND;TZID=Australia/Sydney:20181128T203000
DTSTAMP:20260424T224604
CREATED:20180624T051656Z
LAST-MODIFIED:20181022T111602Z
UID:4107-1543433400-1543437000@dogsact.org.au
SUMMARY:ACT Gundog Society AGM
DESCRIPTION:All members of the ACT Gundog Society are invited to the Annual General Meeting\, in the Dogs ACT meeting rooms.
URL:https://dogsact.org.au/event/act-gundog-society-agm-2/
LOCATION:Meeting Rooms\, Dogs ACT Office\, Cnr Stirling Ave & Federal Highway\, Mitchell\, ACT.
CATEGORIES:Affiliate meeting
GEO:-35.2303209;149.1516455
X-APPLE-STRUCTURED-LOCATION;VALUE=URI;X-ADDRESS=Meeting Rooms Dogs ACT Office Cnr Stirling Ave & Federal Highway Mitchell ACT.;X-APPLE-RADIUS=500;X-TITLE=Cnr Stirling Ave & Federal Highway\, Mitchell\, ACT.:geo:149.1516455,-35.2303209
END:VEVENT
END:VCALENDAR