BEGIN:VCALENDAR
VERSION:2.0
PRODID:-//Dogs ACT - ECPv5.2.0//NONSGML v1.0//EN
CALSCALE:GREGORIAN
METHOD:PUBLISH
X-WR-CALNAME:Dogs ACT
X-ORIGINAL-URL:https://dogsact.org.au
X-WR-CALDESC:Events for Dogs ACT
BEGIN:VTIMEZONE
TZID:Australia/Sydney
BEGIN:STANDARD
TZOFFSETFROM:+1100
TZOFFSETTO:+1000
TZNAME:AEST
DTSTART:20190406T160000
END:STANDARD
BEGIN:DAYLIGHT
TZOFFSETFROM:+1000
TZOFFSETTO:+1100
TZNAME:AEDT
DTSTART:20191005T160000
END:DAYLIGHT
END:VTIMEZONE
BEGIN:VEVENT
DTSTART;VALUE=DATE:20190101
DTEND;VALUE=DATE:20190102
DTSTAMP:20260424T195916
CREATED:20180102T234608Z
LAST-MODIFIED:20180102T234608Z
UID:3322-1546300800-1546387199@dogsact.org.au
SUMMARY:Public Holiday - New Year's Day
DESCRIPTION:PUBLIC HOLIDAY
URL:https://dogsact.org.au/event/public-holiday-new-years-day/
LOCATION:Dogs ACT Canine Complex\, Exhibition Park\, Cnr Stirling Ave & Federal Highway\, Mitchell\, ACT.\, Canberra\, ACT\, Australia
CATEGORIES:Public Holiday
GEO:-35.2303406;149.1516599
X-APPLE-STRUCTURED-LOCATION;VALUE=URI;X-ADDRESS=Dogs ACT Canine Complex Exhibition Park Cnr Stirling Ave & Federal Highway Mitchell ACT. Canberra ACT Australia;X-APPLE-RADIUS=500;X-TITLE=Cnr Stirling Ave & Federal Highway\, Mitchell\, ACT.:geo:149.1516599,-35.2303406
END:VEVENT
BEGIN:VEVENT
DTSTART;TZID=Australia/Sydney:20190116T193000
DTEND;TZID=Australia/Sydney:20190116T213000
DTSTAMP:20260424T195916
CREATED:20180321T042358Z
LAST-MODIFIED:20180321T042358Z
UID:3648-1547667000-1547674200@dogsact.org.au
SUMMARY:Council Meeting
DESCRIPTION:Monthly Dogs ACT Council Meeting
URL:https://dogsact.org.au/event/council-meeting-11/
LOCATION:Meeting Rooms\, Dogs ACT Office\, Cnr Stirling Ave & Federal Highway\, Mitchell\, ACT.
CATEGORIES:Monthly events
GEO:-35.2303209;149.1516455
X-APPLE-STRUCTURED-LOCATION;VALUE=URI;X-ADDRESS=Meeting Rooms Dogs ACT Office Cnr Stirling Ave & Federal Highway Mitchell ACT.;X-APPLE-RADIUS=500;X-TITLE=Cnr Stirling Ave & Federal Highway\, Mitchell\, ACT.:geo:149.1516455,-35.2303209
END:VEVENT
BEGIN:VEVENT
DTSTART;TZID=Australia/Sydney:20190119T170000
DTEND;TZID=Australia/Sydney:20190120T170000
DTSTAMP:20260424T195916
CREATED:20181114T023012Z
LAST-MODIFIED:20190118T221147Z
UID:4482-1547917200-1548003600@dogsact.org.au
SUMMARY:Summer Festival Championship Shows x 3
DESCRIPTION:Catalogue \nThere will be 3 All Breeds Championship Shows  for you set over 2 days. \nEvening show Sat 19th Jan and 2 shows on Sun 20th Jan….all undercover – don’t bring brolleys\, gazebos or other gear – just you & the dogs!! \nSchedule is here
URL:https://dogsact.org.au/event/summer-festival-shows-dogs-act/
LOCATION:Dogs ACT Canine Complex\, Exhibition Park\, Cnr Stirling Ave & Federal Highway\, Mitchell\, ACT.\, Canberra\, ACT\, Australia
CATEGORIES:Championship Shows
GEO:-35.2303406;149.1516599
X-APPLE-STRUCTURED-LOCATION;VALUE=URI;X-ADDRESS=Dogs ACT Canine Complex Exhibition Park Cnr Stirling Ave & Federal Highway Mitchell ACT. Canberra ACT Australia;X-APPLE-RADIUS=500;X-TITLE=Cnr Stirling Ave & Federal Highway\, Mitchell\, ACT.:geo:149.1516599,-35.2303406
END:VEVENT
BEGIN:VEVENT
DTSTART;TZID=Australia/Sydney:20190119T180000
DTEND;TZID=Australia/Sydney:20190119T223000
DTSTAMP:20260424T195916
CREATED:20180810T115333Z
LAST-MODIFIED:20181124T105635Z
UID:4179-1547920800-1547937000@dogsact.org.au
SUMMARY:Rally Trials\, ACT Companion Dog Club
DESCRIPTION:Schedule is here
URL:https://dogsact.org.au/event/rally-trials-act-companion-dog-club/
LOCATION:ACT Companion Dog Club grounds\, 240 Narrabundah Lane\, Symonston\, Canberra\, ACT\, 2609\, Australia
CATEGORIES:Rally Trial
GEO:-35.3476439;149.1596117
X-APPLE-STRUCTURED-LOCATION;VALUE=URI;X-ADDRESS=ACT Companion Dog Club grounds 240 Narrabundah Lane Symonston Canberra ACT 2609 Australia;X-APPLE-RADIUS=500;X-TITLE=240 Narrabundah Lane\, Symonston:geo:149.1596117,-35.3476439
END:VEVENT
BEGIN:VEVENT
DTSTART;TZID=Australia/Sydney:20190127T080000
DTEND;TZID=Australia/Sydney:20190128T180000
DTSTAMP:20260424T195916
CREATED:20181114T023313Z
LAST-MODIFIED:20190126T023127Z
UID:4486-1548576000-1548698400@dogsact.org.au
SUMMARY:Dogs ACT - Summer Festival 4 Championship Shows
DESCRIPTION:Come along to 4 all breed championship shows under cover!  4 shows over 2 days…under cover and great fun! \nSchedule for the entire weekend is located here    \nCatalogue for 2 Sunday shows is here \nCatalogue for 2 Monday shows is here \nPLEASE NOTE:  During this period it is necessary to check the weather as Dogs ACT has a heat policy in place. However\, this weekends exhibitors will be pleased to know that the BOM forecast for Sunday is 35 and Monday is 31.                 This means that the shows will go ahead as planned. \n\nThe Dogs ACT Inclement Weather Policy cuts in at 30 degrees and requires a number of steps to ensure that dogs are cared for in the heat. Please familiarise yourselves with it.   Section 15.9 is the one to read. Essentially you need to ensure your dogs are provided with shade and water at all times and that no dog is to be left in a car and any dog in a trailer is to be checked regularly. \nhttp://dogsact.org.au/…/Part_15_InclementWeatherPolicies.pdf
URL:https://dogsact.org.au/event/summer-festival-shows-dogs-act-4-all-breeds/
LOCATION:Dogs ACT Canine Complex\, Exhibition Park\, Cnr Stirling Ave & Federal Highway\, Mitchell\, ACT.\, Canberra\, ACT\, Australia
CATEGORIES:Championship Shows
GEO:-35.2303406;149.1516599
X-APPLE-STRUCTURED-LOCATION;VALUE=URI;X-ADDRESS=Dogs ACT Canine Complex Exhibition Park Cnr Stirling Ave & Federal Highway Mitchell ACT. Canberra ACT Australia;X-APPLE-RADIUS=500;X-TITLE=Cnr Stirling Ave & Federal Highway\, Mitchell\, ACT.:geo:149.1516599,-35.2303406
END:VEVENT
END:VCALENDAR