BEGIN:VCALENDAR
VERSION:2.0
PRODID:-//Dogs ACT - ECPv5.2.0//NONSGML v1.0//EN
CALSCALE:GREGORIAN
METHOD:PUBLISH
X-WR-CALNAME:Dogs ACT
X-ORIGINAL-URL:https://dogsact.org.au
X-WR-CALDESC:Events for Dogs ACT
BEGIN:VTIMEZONE
TZID:Australia/Sydney
BEGIN:STANDARD
TZOFFSETFROM:+1100
TZOFFSETTO:+1000
TZNAME:AEST
DTSTART:20200404T160000
END:STANDARD
BEGIN:DAYLIGHT
TZOFFSETFROM:+1000
TZOFFSETTO:+1100
TZNAME:AEDT
DTSTART:20201003T160000
END:DAYLIGHT
BEGIN:STANDARD
TZOFFSETFROM:+1100
TZOFFSETTO:+1000
TZNAME:AEST
DTSTART:20210403T160000
END:STANDARD
BEGIN:DAYLIGHT
TZOFFSETFROM:+1000
TZOFFSETTO:+1100
TZNAME:AEDT
DTSTART:20211002T160000
END:DAYLIGHT
END:VTIMEZONE
BEGIN:VEVENT
DTSTART;TZID=Australia/Sydney:20201201T180000
DTEND;TZID=Australia/Sydney:20201201T220000
DTSTAMP:20260425T065519
CREATED:20190915T112554Z
LAST-MODIFIED:20210107T033918Z
UID:5678-1606845600-1606860000@dogsact.org.au
SUMMARY:Agility Trial (Ribbon\, Gamblers)\, CDC
DESCRIPTION:  \nResults \nAgility Ribbon Trial – Gamblers. Judge: Barbara Brown \nDogs ACT COVID-19 Agility Trials: General Practices for Affiliates and Handlers \n  \n 
URL:https://dogsact.org.au/event/agility-trial-ribbon-gamblers-at-cdc/
LOCATION:ACT Companion Dog Club grounds\, 240 Narrabundah Lane\, Symonston\, Canberra\, ACT\, 2609\, Australia
CATEGORIES:Agility
ATTACH;FMTTYPE=image/jpeg:https://dogsact.org.au/wp-content/uploads/2020/11/Bloke-at-end-of-Weaves.jpg
GEO:-35.3476439;149.1596117
X-APPLE-STRUCTURED-LOCATION;VALUE=URI;X-ADDRESS=ACT Companion Dog Club grounds 240 Narrabundah Lane Symonston Canberra ACT 2609 Australia;X-APPLE-RADIUS=500;X-TITLE=240 Narrabundah Lane\, Symonston:geo:149.1596117,-35.3476439
END:VEVENT
BEGIN:VEVENT
DTSTART;TZID=Australia/Sydney:20201205T100000
DTEND;TZID=Australia/Sydney:20201205T150000
DTSTAMP:20260425T065519
CREATED:20201106T053835Z
LAST-MODIFIED:20201107T011714Z
UID:7182-1607162400-1607180400@dogsact.org.au
SUMMARY:CTJS Practical Exam
DESCRIPTION:CJTS Practical Exam tonight\, grounds & meeting room.
URL:https://dogsact.org.au/event/ctjs-practical-exam-2/
LOCATION:ACT
CATEGORIES:JTS Practical Exam,Special Event
END:VEVENT
BEGIN:VEVENT
DTSTART;TZID=Australia/Sydney:20201206T100000
DTEND;TZID=Australia/Sydney:20201206T150000
DTSTAMP:20260425T065519
CREATED:20201106T053922Z
LAST-MODIFIED:20201107T011802Z
UID:7184-1607248800-1607266800@dogsact.org.au
SUMMARY:CTJS Practical Exam
DESCRIPTION:CJTS Practical Exam tonight\, grounds & meeting room.
URL:https://dogsact.org.au/event/ctjs-practical-exam-3/
LOCATION:ACT
CATEGORIES:JTS Practical Exam,Special Event
END:VEVENT
BEGIN:VEVENT
DTSTART;TZID=Australia/Sydney:20201209T160000
DTEND;TZID=Australia/Sydney:20201209T190000
DTSTAMP:20260425T065519
CREATED:20201106T054427Z
LAST-MODIFIED:20201106T054448Z
UID:7188-1607529600-1607540400@dogsact.org.au
SUMMARY:Dogs ACT Office OPEN late 4-7pm
DESCRIPTION:Dont forget we are open late tonight so you can call in on the way home from work to get your jobs done at the Dogs ACT office. \nCome along & try our late night opening.
URL:https://dogsact.org.au/event/dogs-act-office-open-4-7pm-2/
LOCATION:ACT
CATEGORIES:Office Open late,Special Event
END:VEVENT
BEGIN:VEVENT
DTSTART;TZID=Australia/Sydney:20201209T193000
DTEND;TZID=Australia/Sydney:20201209T210000
DTSTAMP:20260425T065519
CREATED:20190817T011108Z
LAST-MODIFIED:20190817T011108Z
UID:5381-1607542200-1607547600@dogsact.org.au
SUMMARY:Council Meeting
DESCRIPTION:
URL:https://dogsact.org.au/event/council-meeting-30/
LOCATION:ACT
CATEGORIES:Council
END:VEVENT
BEGIN:VEVENT
DTSTART;VALUE=DATE:20201212
DTEND;VALUE=DATE:20201214
DTSTAMP:20260425T065519
CREATED:20181114T200911Z
LAST-MODIFIED:20201029T202029Z
UID:4562-1607731200-1607903999@dogsact.org.au
SUMMARY:ACT Ladies & Canberra Kennel Clubs - 4 Champ shows
DESCRIPTION:The ACT Ladies & Canberra Kennel Clubs will be holding 4 championship shows over 2 days in December. \nTheir Christmas shows are on 12 & 13 December 2020.  Schedule is here \nAll Covid-19 restrictions will be in place.   Entries from NSW & ACT only via Show Manager. \n30Oct20 – Message from Clubs – Our Christmas shows are waiting for approval from the ACT Government (Event Exemption required due to expected exhibitor & attendee numbers). This is anticipated around mid November. Entries will be able to open at that time\, so watch this space!!!
URL:https://dogsact.org.au/event/act-ladies-kennel-club-conformation-shows-4/2020-12-12/
LOCATION:Dogs ACT Canine Complex\, Exhibition Park\, Cnr Stirling Ave & Federal Highway\, Mitchell\, ACT.\, Canberra\, ACT\, Australia
CATEGORIES:Championship Shows,Conformation
GEO:-35.2303406;149.1516599
X-APPLE-STRUCTURED-LOCATION;VALUE=URI;X-ADDRESS=Dogs ACT Canine Complex Exhibition Park Cnr Stirling Ave & Federal Highway Mitchell ACT. Canberra ACT Australia;X-APPLE-RADIUS=500;X-TITLE=Cnr Stirling Ave & Federal Highway\, Mitchell\, ACT.:geo:149.1516599,-35.2303406
END:VEVENT
BEGIN:VEVENT
DTSTART;TZID=Australia/Sydney:20201217T193000
DTEND;TZID=Australia/Sydney:20201217T220000
DTSTAMP:20260425T065519
CREATED:20201201T232409Z
LAST-MODIFIED:20201206T004920Z
UID:7312-1608233400-1608242400@dogsact.org.au
SUMMARY:Agility Judges Meeting
DESCRIPTION:  \nConvenor: Barbara Brown
URL:https://dogsact.org.au/event/agility-judges-meeting/
LOCATION:Dogs ACT meeting room
CATEGORIES:Agility
END:VEVENT
BEGIN:VEVENT
DTSTART;VALUE=DATE:20201225
DTEND;VALUE=DATE:20201226
DTSTAMP:20260425T065519
CREATED:20190817T012817Z
LAST-MODIFIED:20190817T012817Z
UID:5406-1608854400-1608940799@dogsact.org.au
SUMMARY:Public Holiday  - Christmas Day
DESCRIPTION:Happy Christmas to all our Members
URL:https://dogsact.org.au/event/public-holiday-christmas-day-3/
LOCATION:ACT
CATEGORIES:Public Holiday
END:VEVENT
BEGIN:VEVENT
DTSTART;TZID=Australia/Sydney:20201228T080000
DTEND;TZID=Australia/Sydney:20201228T170000
DTSTAMP:20260425T065519
CREATED:20190817T013009Z
LAST-MODIFIED:20190817T013207Z
UID:5410-1609142400-1609174800@dogsact.org.au
SUMMARY:Public Holiday - in lieu of Boxing Day
DESCRIPTION:
URL:https://dogsact.org.au/event/public-holiday-boxing-day-3/
LOCATION:ACT
CATEGORIES:Public Holiday
END:VEVENT
BEGIN:VEVENT
DTSTART;VALUE=DATE:20210101
DTEND;VALUE=DATE:20210102
DTSTAMP:20260425T065519
CREATED:20190817T013112Z
LAST-MODIFIED:20190817T013112Z
UID:5412-1609459200-1609545599@dogsact.org.au
SUMMARY:Public Holiday - New Years Day
DESCRIPTION:Happy New Year to all our Members!!!!
URL:https://dogsact.org.au/event/public-holiday-new-years-day-2/
LOCATION:ACT
CATEGORIES:Public Holiday
END:VEVENT
BEGIN:VEVENT
DTSTART;TZID=Australia/Sydney:20210101T160000
DTEND;TZID=Australia/Sydney:20210101T233000
DTSTAMP:20260425T065519
CREATED:20201115T234351Z
LAST-MODIFIED:20210106T225607Z
UID:7237-1609516800-1609543800@dogsact.org.au
SUMMARY:Trick Dog Tests\, BDOC
DESCRIPTION:Results \nAdvertisement! \n 
URL:https://dogsact.org.au/event/trick-dog-test-bdoc/
LOCATION:Belconnen Dog Obedience Club grounds\, 1 Morisset Road\, Mitchell\, ACT\, 2912\, Australia
CATEGORIES:Trick Dog
ATTACH;FMTTYPE=image/jpeg:https://dogsact.org.au/wp-content/uploads/2020/12/20201206_195324_SitPretty-rotated.jpg
GEO:-35.220235;149.145894
X-APPLE-STRUCTURED-LOCATION;VALUE=URI;X-ADDRESS=Belconnen Dog Obedience Club grounds 1 Morisset Road Mitchell ACT 2912 Australia;X-APPLE-RADIUS=500;X-TITLE=1 Morisset Road:geo:149.145894,-35.220235
END:VEVENT
END:VCALENDAR