BEGIN:VCALENDAR
VERSION:2.0
PRODID:-//Dogs ACT - ECPv5.2.0//NONSGML v1.0//EN
CALSCALE:GREGORIAN
METHOD:PUBLISH
X-WR-CALNAME:Dogs ACT
X-ORIGINAL-URL:https://dogsact.org.au
X-WR-CALDESC:Events for Dogs ACT
BEGIN:VTIMEZONE
TZID:Australia/Sydney
BEGIN:STANDARD
TZOFFSETFROM:+1100
TZOFFSETTO:+1000
TZNAME:AEST
DTSTART:20200404T160000
END:STANDARD
BEGIN:DAYLIGHT
TZOFFSETFROM:+1000
TZOFFSETTO:+1100
TZNAME:AEDT
DTSTART:20201003T160000
END:DAYLIGHT
BEGIN:STANDARD
TZOFFSETFROM:+1100
TZOFFSETTO:+1000
TZNAME:AEST
DTSTART:20210403T160000
END:STANDARD
BEGIN:DAYLIGHT
TZOFFSETFROM:+1000
TZOFFSETTO:+1100
TZNAME:AEDT
DTSTART:20211002T160000
END:DAYLIGHT
END:VTIMEZONE
BEGIN:VEVENT
DTSTART;TZID=Australia/Sydney:20201228T080000
DTEND;TZID=Australia/Sydney:20201228T170000
DTSTAMP:20260425T052929
CREATED:20190817T013009Z
LAST-MODIFIED:20190817T013207Z
UID:5410-1609142400-1609174800@dogsact.org.au
SUMMARY:Public Holiday - in lieu of Boxing Day
DESCRIPTION:
URL:https://dogsact.org.au/event/public-holiday-boxing-day-3/
LOCATION:ACT
CATEGORIES:Public Holiday
END:VEVENT
BEGIN:VEVENT
DTSTART;VALUE=DATE:20210101
DTEND;VALUE=DATE:20210102
DTSTAMP:20260425T052929
CREATED:20190817T013112Z
LAST-MODIFIED:20190817T013112Z
UID:5412-1609459200-1609545599@dogsact.org.au
SUMMARY:Public Holiday - New Years Day
DESCRIPTION:Happy New Year to all our Members!!!!
URL:https://dogsact.org.au/event/public-holiday-new-years-day-2/
LOCATION:ACT
CATEGORIES:Public Holiday
END:VEVENT
BEGIN:VEVENT
DTSTART;TZID=Australia/Sydney:20210101T160000
DTEND;TZID=Australia/Sydney:20210101T233000
DTSTAMP:20260425T052929
CREATED:20201115T234351Z
LAST-MODIFIED:20210106T225607Z
UID:7237-1609516800-1609543800@dogsact.org.au
SUMMARY:Trick Dog Tests\, BDOC
DESCRIPTION:Results \nAdvertisement! \n 
URL:https://dogsact.org.au/event/trick-dog-test-bdoc/
LOCATION:Belconnen Dog Obedience Club grounds\, 1 Morisset Road\, Mitchell\, ACT\, 2912\, Australia
CATEGORIES:Trick Dog
ATTACH;FMTTYPE=image/jpeg:https://dogsact.org.au/wp-content/uploads/2020/12/20201206_195324_SitPretty-rotated.jpg
GEO:-35.220235;149.145894
X-APPLE-STRUCTURED-LOCATION;VALUE=URI;X-ADDRESS=Belconnen Dog Obedience Club grounds 1 Morisset Road Mitchell ACT 2912 Australia;X-APPLE-RADIUS=500;X-TITLE=1 Morisset Road:geo:149.145894,-35.220235
END:VEVENT
BEGIN:VEVENT
DTSTART;TZID=Australia/Sydney:20210105T093000
DTEND;TZID=Australia/Sydney:20210105T143000
DTSTAMP:20260425T052929
CREATED:20210104T041325Z
LAST-MODIFIED:20210104T041941Z
UID:7724-1609839000-1609857000@dogsact.org.au
SUMMARY:Dogs ACT office re-opens
DESCRIPTION:Dogs ACT office reopens today after the festive break. \nHappy New Year to all Members. \n 
URL:https://dogsact.org.au/event/dogs-act-office-re-opens-2/
LOCATION:ACT
CATEGORIES:General Events
ATTACH;FMTTYPE=image/png:https://dogsact.org.au/wp-content/uploads/2020/01/Open-entries.png
END:VEVENT
BEGIN:VEVENT
DTSTART;TZID=Australia/Sydney:20210116T180000
DTEND;TZID=Australia/Sydney:20210116T220000
DTSTAMP:20260425T052929
CREATED:20200518T003527Z
LAST-MODIFIED:20210113T235721Z
UID:6755-1610820000-1610834400@dogsact.org.au
SUMMARY:Double Rally Trials\, CDC - CANCELLED
DESCRIPTION:Advertisement \n 
URL:https://dogsact.org.au/event/double-rally-o-trials-cdc/2021-01-16/
LOCATION:ACT Companion Dog Club grounds\, 240 Narrabundah Lane\, Symonston\, Canberra\, ACT\, 2609\, Australia
CATEGORIES:Rally Trial
GEO:-35.3476439;149.1596117
X-APPLE-STRUCTURED-LOCATION;VALUE=URI;X-ADDRESS=ACT Companion Dog Club grounds 240 Narrabundah Lane Symonston Canberra ACT 2609 Australia;X-APPLE-RADIUS=500;X-TITLE=240 Narrabundah Lane\, Symonston:geo:149.1596117,-35.3476439
END:VEVENT
BEGIN:VEVENT
DTSTART;TZID=Australia/Sydney:20210120T180000
DTEND;TZID=Australia/Sydney:20210120T190000
DTSTAMP:20260425T052929
CREATED:20210119T035009Z
LAST-MODIFIED:20210119T035959Z
UID:7923-1611165600-1611169200@dogsact.org.au
SUMMARY:Dog training & socialisation classes
DESCRIPTION:Classes restarted 20Jan21. Each class will start at 6pm on Wednesdays & last approximately one hour. \nYou must book by going to Show Manager – head to their calendar of events then check ACT  & there it is! \n$5 per dog per session – open to all!!! \nAny cancellation of classes will be placed on our Facebook page (Dogs ACT – Canberra).
URL:https://dogsact.org.au/event/dog-training-socialisation-classes/2021-01-20/
LOCATION:ACT
CATEGORIES:General Events,Weekly Events
END:VEVENT
BEGIN:VEVENT
DTSTART;TZID=Australia/Sydney:20210123T160000
DTEND;TZID=Australia/Sydney:20210123T233000
DTSTAMP:20260425T052929
CREATED:20201115T234453Z
LAST-MODIFIED:20210312T081234Z
UID:7239-1611417600-1611444600@dogsact.org.au
SUMMARY:Trick Dog Tests\, BDOC
DESCRIPTION:Results \nAdvertisement! \n 
URL:https://dogsact.org.au/event/trick-dog-test-bdoc-2/
LOCATION:Belconnen Dog Obedience Club grounds\, 1 Morisset Road\, Mitchell\, ACT\, 2912\, Australia
CATEGORIES:Trick Dog
GEO:-35.220235;149.145894
X-APPLE-STRUCTURED-LOCATION;VALUE=URI;X-ADDRESS=Belconnen Dog Obedience Club grounds 1 Morisset Road Mitchell ACT 2912 Australia;X-APPLE-RADIUS=500;X-TITLE=1 Morisset Road:geo:149.145894,-35.220235
END:VEVENT
BEGIN:VEVENT
DTSTART;VALUE=DATE:20210126
DTEND;VALUE=DATE:20210127
DTSTAMP:20260425T052929
CREATED:20200129T015846Z
LAST-MODIFIED:20210104T041645Z
UID:6471-1611619200-1611705599@dogsact.org.au
SUMMARY:Australia Day - Public Holiday
DESCRIPTION:Happy Australia Day! \n  \nOffice is closed today.
URL:https://dogsact.org.au/event/australia-day-4/2021-01-26/
LOCATION:ACT
CATEGORIES:Public Holiday
END:VEVENT
END:VCALENDAR