BEGIN:VCALENDAR
VERSION:2.0
PRODID:-//Dogs ACT - ECPv5.2.0//NONSGML v1.0//EN
CALSCALE:GREGORIAN
METHOD:PUBLISH
X-WR-CALNAME:Dogs ACT
X-ORIGINAL-URL:https://dogsact.org.au
X-WR-CALDESC:Events for Dogs ACT
BEGIN:VTIMEZONE
TZID:Australia/Sydney
BEGIN:STANDARD
TZOFFSETFROM:+1100
TZOFFSETTO:+1000
TZNAME:AEST
DTSTART:20260404T160000
END:STANDARD
BEGIN:DAYLIGHT
TZOFFSETFROM:+1000
TZOFFSETTO:+1100
TZNAME:AEDT
DTSTART:20261003T160000
END:DAYLIGHT
END:VTIMEZONE
BEGIN:VEVENT
DTSTART;TZID=Australia/Sydney:20260403T080000
DTEND;TZID=Australia/Sydney:20260405T170000
DTSTAMP:20260421T204611
CREATED:20250319T020458Z
LAST-MODIFIED:20250319T020458Z
UID:13203-1775203200-1775408400@dogsact.org.au
SUMMARY:National Folk Festival - EPIC
DESCRIPTION:This event is held on Easter Long Weekend\, no camping for Dogs ACT events will be available.
URL:https://dogsact.org.au/event/national-folk-festival-epic/
LOCATION:ACT
END:VEVENT
BEGIN:VEVENT
DTSTART;TZID=Australia/Sydney:20260403T080000
DTEND;TZID=Australia/Sydney:20260403T170000
DTSTAMP:20260421T204611
CREATED:20250819T035631Z
LAST-MODIFIED:20250819T035631Z
UID:13720-1775203200-1775235600@dogsact.org.au
SUMMARY:Good Friday
DESCRIPTION:
URL:https://dogsact.org.au/event/good-friday-2/
LOCATION:ACT
CATEGORIES:Public Holiday
END:VEVENT
BEGIN:VEVENT
DTSTART;TZID=Australia/Sydney:20260404T080000
DTEND;TZID=Australia/Sydney:20260405T170000
DTSTAMP:20260421T204611
CREATED:20250911T050531Z
LAST-MODIFIED:20260324T052510Z
UID:13804-1775289600-1775408400@dogsact.org.au
SUMMARY:Agility (Easter Trial) - ACTCDC
DESCRIPTION:Advertisement – Updated 24/3/2026
URL:https://dogsact.org.au/event/agility-easter-trial-actcdc/
LOCATION:ACT Companion Dog Club grounds\, 240 Narrabundah Lane\, Symonston\, Canberra\, ACT\, 2609\, Australia
CATEGORIES:Agility,Jumping
GEO:-35.3476439;149.1596117
X-APPLE-STRUCTURED-LOCATION;VALUE=URI;X-ADDRESS=ACT Companion Dog Club grounds 240 Narrabundah Lane Symonston Canberra ACT 2609 Australia;X-APPLE-RADIUS=500;X-TITLE=240 Narrabundah Lane\, Symonston:geo:149.1596117,-35.3476439
END:VEVENT
BEGIN:VEVENT
DTSTART;TZID=Australia/Sydney:20260406T080000
DTEND;TZID=Australia/Sydney:20260406T170000
DTSTAMP:20260421T204611
CREATED:20250819T021401Z
LAST-MODIFIED:20260120T020903Z
UID:13668-1775462400-1775494800@dogsact.org.au
SUMMARY:SprintDog Trial - Dogs ACT
DESCRIPTION:Easter Monday \nLocation BDOC \nAdvertisement
URL:https://dogsact.org.au/event/dogs-act-sprintdog-trial-2/
LOCATION:ACT
CATEGORIES:Sprint Dog
END:VEVENT
BEGIN:VEVENT
DTSTART;TZID=Australia/Sydney:20260406T080000
DTEND;TZID=Australia/Sydney:20260406T170000
DTSTAMP:20260421T204611
CREATED:20250819T035704Z
LAST-MODIFIED:20250819T035704Z
UID:13722-1775462400-1775494800@dogsact.org.au
SUMMARY:Easter Monday
DESCRIPTION:
URL:https://dogsact.org.au/event/easter-monday/
LOCATION:ACT
CATEGORIES:Public Holiday
END:VEVENT
BEGIN:VEVENT
DTSTART;TZID=Australia/Sydney:20260407T080000
DTEND;TZID=Australia/Sydney:20260407T170000
DTSTAMP:20260421T204611
CREATED:20250819T024704Z
LAST-MODIFIED:20260226T034936Z
UID:13690-1775548800-1775581200@dogsact.org.au
SUMMARY:SprintDog Trial - BDOC
DESCRIPTION:Advertisement – Updated 26/2/2026
URL:https://dogsact.org.au/event/bdoc-sprintdog-trial/
LOCATION:Belconnen Dog Obedience Club grounds\, 1 Morisset Road\, Mitchell\, ACT\, 2912\, Australia
CATEGORIES:Sprint Dog
GEO:-35.220235;149.145894
X-APPLE-STRUCTURED-LOCATION;VALUE=URI;X-ADDRESS=Belconnen Dog Obedience Club grounds 1 Morisset Road Mitchell ACT 2912 Australia;X-APPLE-RADIUS=500;X-TITLE=1 Morisset Road:geo:149.145894,-35.220235
END:VEVENT
BEGIN:VEVENT
DTSTART;TZID=Australia/Sydney:20260411T080000
DTEND;TZID=Australia/Sydney:20260412T170000
DTSTAMP:20260421T204611
CREATED:20231214T024426Z
LAST-MODIFIED:20260304T040411Z
UID:11474-1775894400-1776013200@dogsact.org.au
SUMMARY:Breed Show - ACT & District Staffordshire Bull Terrier Club
DESCRIPTION:Advertisement
URL:https://dogsact.org.au/event/breed-show-act-district-staffordshire-bull-terrier-club-2/
LOCATION:Dogs ACT Canine Complex\, Exhibition Park\, Cnr Stirling Ave & Federal Highway\, Mitchell\, ACT.\, Canberra\, ACT\, Australia
CATEGORIES:Conformation
GEO:-35.2303406;149.1516599
X-APPLE-STRUCTURED-LOCATION;VALUE=URI;X-ADDRESS=Dogs ACT Canine Complex Exhibition Park Cnr Stirling Ave & Federal Highway Mitchell ACT. Canberra ACT Australia;X-APPLE-RADIUS=500;X-TITLE=Cnr Stirling Ave & Federal Highway\, Mitchell\, ACT.:geo:149.1516599,-35.2303406
END:VEVENT
BEGIN:VEVENT
DTSTART;TZID=Australia/Sydney:20260411T080000
DTEND;TZID=Australia/Sydney:20260411T170000
DTSTAMP:20260421T204611
CREATED:20250819T025103Z
LAST-MODIFIED:20260115T024945Z
UID:13692-1775894400-1775926800@dogsact.org.au
SUMMARY:Obedience Trial (Double) - BDOC
DESCRIPTION:Advertisement
URL:https://dogsact.org.au/event/bdoc-obedience-trial-double/
LOCATION:Belconnen Dog Obedience Club grounds\, 1 Morisset Road\, Mitchell\, ACT\, 2912\, Australia
CATEGORIES:Obedience Trials
GEO:-35.220235;149.145894
X-APPLE-STRUCTURED-LOCATION;VALUE=URI;X-ADDRESS=Belconnen Dog Obedience Club grounds 1 Morisset Road Mitchell ACT 2912 Australia;X-APPLE-RADIUS=500;X-TITLE=1 Morisset Road:geo:149.145894,-35.220235
END:VEVENT
BEGIN:VEVENT
DTSTART;TZID=Australia/Sydney:20260412T080000
DTEND;TZID=Australia/Sydney:20260412T170000
DTSTAMP:20260421T204611
CREATED:20251216T225308Z
LAST-MODIFIED:20260113T044050Z
UID:14188-1775980800-1776013200@dogsact.org.au
SUMMARY:Rally Trial - BDOC
DESCRIPTION:This will be Masters level only\nAdvertisement
URL:https://dogsact.org.au/event/rally-trial-bdoc-3/
LOCATION:Belconnen Dog Obedience Club grounds\, 1 Morisset Road\, Mitchell\, ACT\, 2912\, Australia
CATEGORIES:Rally Trial
GEO:-35.220235;149.145894
X-APPLE-STRUCTURED-LOCATION;VALUE=URI;X-ADDRESS=Belconnen Dog Obedience Club grounds 1 Morisset Road Mitchell ACT 2912 Australia;X-APPLE-RADIUS=500;X-TITLE=1 Morisset Road:geo:149.145894,-35.220235
END:VEVENT
BEGIN:VEVENT
DTSTART;TZID=Australia/Sydney:20260415T170000
DTEND;TZID=Australia/Sydney:20260415T220000
DTSTAMP:20260421T204611
CREATED:20250710T053752Z
LAST-MODIFIED:20260113T015951Z
UID:13536-1776272400-1776290400@dogsact.org.au
SUMMARY:Scent Work Trial (PM) - TDTC
DESCRIPTION:Advertisement  \nEXCELLENT EXTERIOR – Birch\, Clove\, Cypress\nADVANCED INTERIOR – Birch\, Clove
URL:https://dogsact.org.au/event/scent-work-trial-pm-tdtc/
LOCATION:Tuggeranong Dog Training Club Grounds\, Cnr of Athllon Drive & Rowland Rees Crescent Greenway ACT\, Canberra\, ACT\, Australia
CATEGORIES:Scent Work
GEO:-35.4239704;149.0687626
X-APPLE-STRUCTURED-LOCATION;VALUE=URI;X-ADDRESS=Tuggeranong Dog Training Club Grounds Cnr of Athllon Drive & Rowland Rees Crescent Greenway ACT Canberra ACT Australia;X-APPLE-RADIUS=500;X-TITLE=Cnr of Athllon Drive & Rowland Rees Crescent Greenway ACT:geo:149.0687626,-35.4239704
END:VEVENT
BEGIN:VEVENT
DTSTART;TZID=Australia/Sydney:20260415T180000
DTEND;TZID=Australia/Sydney:20260415T220000
DTSTAMP:20260421T204611
CREATED:20250819T025207Z
LAST-MODIFIED:20260331T221056Z
UID:13694-1776276000-1776290400@dogsact.org.au
SUMMARY:Agility Trial (Ribbon) - BDOC
DESCRIPTION:Advertisement
URL:https://dogsact.org.au/event/bdoc-agility-ribbon-trial/
LOCATION:Belconnen Dog Obedience Club grounds\, 1 Morisset Road\, Mitchell\, ACT\, 2912\, Australia
CATEGORIES:Agility
GEO:-35.220235;149.145894
X-APPLE-STRUCTURED-LOCATION;VALUE=URI;X-ADDRESS=Belconnen Dog Obedience Club grounds 1 Morisset Road Mitchell ACT 2912 Australia;X-APPLE-RADIUS=500;X-TITLE=1 Morisset Road:geo:149.145894,-35.220235
END:VEVENT
BEGIN:VEVENT
DTSTART;TZID=Australia/Sydney:20260418T080000
DTEND;TZID=Australia/Sydney:20260419T170000
DTSTAMP:20260421T204611
CREATED:20251009T014013Z
LAST-MODIFIED:20260323T050941Z
UID:14047-1776499200-1776618000@dogsact.org.au
SUMMARY:Dogs ACT Shows
DESCRIPTION:1x All Breeds & 1 x Group Shows each day \nAdvertisement
URL:https://dogsact.org.au/event/dogs-act-shows-3/
LOCATION:Dogs ACT Canine Complex\, Exhibition Park\, Cnr Stirling Ave & Federal Highway\, Mitchell\, ACT.\, Canberra\, ACT\, Australia
CATEGORIES:Conformation
ORGANIZER;CN="Dogs%20ACT":MAILTO:admin@dogsact.org.au
GEO:-35.2303406;149.1516599
X-APPLE-STRUCTURED-LOCATION;VALUE=URI;X-ADDRESS=Dogs ACT Canine Complex Exhibition Park Cnr Stirling Ave & Federal Highway Mitchell ACT. Canberra ACT Australia;X-APPLE-RADIUS=500;X-TITLE=Cnr Stirling Ave & Federal Highway\, Mitchell\, ACT.:geo:149.1516599,-35.2303406
END:VEVENT
BEGIN:VEVENT
DTSTART;TZID=Australia/Sydney:20260418T080000
DTEND;TZID=Australia/Sydney:20260418T170000
DTSTAMP:20260421T204611
CREATED:20260218T035505Z
LAST-MODIFIED:20260326T010133Z
UID:14483-1776499200-1776531600@dogsact.org.au
SUMMARY:Trick Trial (Double) - ACTCDC
DESCRIPTION:Advertisement  \nDouble Trick Trial
URL:https://dogsact.org.au/event/trick-trial-actcdc/
LOCATION:ACT Companion Dog Club grounds\, 240 Narrabundah Lane\, Symonston\, Canberra\, ACT\, 2609\, Australia
CATEGORIES:Trick Dog
GEO:-35.3476439;149.1596117
X-APPLE-STRUCTURED-LOCATION;VALUE=URI;X-ADDRESS=ACT Companion Dog Club grounds 240 Narrabundah Lane Symonston Canberra ACT 2609 Australia;X-APPLE-RADIUS=500;X-TITLE=240 Narrabundah Lane\, Symonston:geo:149.1596117,-35.3476439
END:VEVENT
END:VCALENDAR